BEGIN:VCALENDAR
VERSION:2.0
PRODID:-//Audubon Everglades - ECPv6.15.16//NONSGML v1.0//EN
CALSCALE:GREGORIAN
METHOD:PUBLISH
X-WR-CALNAME:Audubon Everglades
X-ORIGINAL-URL:https://www.auduboneverglades.org
X-WR-CALDESC:Events for Audubon Everglades
REFRESH-INTERVAL;VALUE=DURATION:PT1H
X-Robots-Tag:noindex
X-PUBLISHED-TTL:PT1H
BEGIN:VTIMEZONE
TZID:America/New_York
BEGIN:DAYLIGHT
TZOFFSETFROM:-0500
TZOFFSETTO:-0400
TZNAME:EDT
DTSTART:20240310T070000
END:DAYLIGHT
BEGIN:STANDARD
TZOFFSETFROM:-0400
TZOFFSETTO:-0500
TZNAME:EST
DTSTART:20241103T060000
END:STANDARD
BEGIN:DAYLIGHT
TZOFFSETFROM:-0500
TZOFFSETTO:-0400
TZNAME:EDT
DTSTART:20250309T070000
END:DAYLIGHT
BEGIN:STANDARD
TZOFFSETFROM:-0400
TZOFFSETTO:-0500
TZNAME:EST
DTSTART:20251102T060000
END:STANDARD
BEGIN:DAYLIGHT
TZOFFSETFROM:-0500
TZOFFSETTO:-0400
TZNAME:EDT
DTSTART:20260308T070000
END:DAYLIGHT
BEGIN:STANDARD
TZOFFSETFROM:-0400
TZOFFSETTO:-0500
TZNAME:EST
DTSTART:20261101T060000
END:STANDARD
END:VTIMEZONE
BEGIN:VEVENT
DTSTART;TZID=America/New_York:20250504T190000
DTEND;TZID=America/New_York:20250504T220000
DTSTAMP:20260425T154941
CREATED:20240829T202634Z
LAST-MODIFIED:20240908T141114Z
UID:12451-1746385200-1746396000@www.auduboneverglades.org
SUMMARY:Tall Cypress Natural Area
DESCRIPTION:Join Bruce Pickholtz along this elevated boardwalk.
URL:https://www.auduboneverglades.org/event/tall-cypress-natural-area-25/
LOCATION:Tall Cypress Natural Area\, 3700 Turtle Run Boulevard\, Coral Springs\, FL\, 33065\, United States
ATTACH;FMTTYPE=image/jpeg:https://www.auduboneverglades.org/wp-content/uploads/2024/02/20c2766d562a167744e09f252bcb7d02.jpg
END:VEVENT
BEGIN:VEVENT
DTSTART;TZID=America/New_York:20250506T184500
DTEND;TZID=America/New_York:20250506T204500
DTSTAMP:20260425T154941
CREATED:20250506T024029Z
LAST-MODIFIED:20250506T044015Z
UID:12882-1746557100-1746564300@www.auduboneverglades.org
SUMMARY:Connecting the Florida Wildlife Corridor
DESCRIPTION:Connecting the Florida Wildlife Corridor: the best chance of saving our natural history legacy Featuring Jason Lauritson\n\n\nJoin us for an inspiring and informative session on the Florida Wildlife Corridor with Jason Lauritsen\, Chief Conservation Officer of the Florida Wildlife Corridor Foundation\, whose focus is to connect\, protect\, and restore Florida’s natural habitats. Along with Jason’s other extensive work\, he joined Audubon at the Corkscrew Swamp Sanctuary in 2001 and served as Sanctuary Director from 2012 until 2018. \nDiscover the significance of the 18-million-acre network that safeguards biodiversity and ensures a sustainable future for wild Florida. Learn about the scientific foundations and the creation of the Florida Ecological Greenways Network (FEGN) model\, which identifies key ecological hubs and connectors across the state. Explore the economic benefits of the corridor and the urgent conservation efforts to save it. \nJoin us and be part of the movement to champion a diverse and resilient Florida. For more information\, visit http://floridawildlifecorridor.org/ . \n \nAbout the Presenter \nJason Lauritsen; Chief Conservation Officer – Florida Wildlife Corridor Foundation \nJason Lauritsen implements the vision and mission of the Corridor Foundation to connect\, protect and restore essential conservation habitat statewide. Jason’s expertise includes environmental conservation and restoration\, land management science\, wetland protection\, stewardship\, and community relationships. He advocates the pursuit of a deep science-based understanding of our complex and often fragile ecosystem that undergirds the quality of life for both people and wildlife. \nJason sits on the Office of Greenways and Trails Council\, the Florida Transportation Plan (FTP) Environmental Partners Working Group\, the 2055 Florida Transportation Plan Steering Committee and is a part of the Statewide Bear Technical Assistance Group. Prior to joining the Corridor Foundation\, he was the Director of Audubon’s Corkscrew Swamp Sanctuary. He has worked in restoration\, education\, research\, policy\, and ecotourism in Florida for over 20 years. \nIf you have any difficult using Eventbrite to connect you to our zoom meeting and presentation you can register directly here:  https://us02web.zoom.us/meeting/register/G9ozO2nNRqyf1Qhlt9C23w
URL:https://www.auduboneverglades.org/event/connecting-the-florida-wildlife-corridor/
ATTACH;FMTTYPE=image/jpeg:https://www.auduboneverglades.org/wp-content/uploads/2025/05/9d8e66fbe2cf8a3cb62a3481995320dc.jpg
END:VEVENT
BEGIN:VEVENT
DTSTART;TZID=America/New_York:20250517T080000
DTEND;TZID=America/New_York:20250517T100000
DTSTAMP:20260425T154941
CREATED:20250506T024033Z
LAST-MODIFIED:20250506T044015Z
UID:12884-1747468800-1747476000@www.auduboneverglades.org
SUMMARY:Morning Cruise at the Loxahatchee National Wildlife Refuge
DESCRIPTION:Enjoy a peaceful morning boat tour through Arthur Marshall Loxahatchee National Wildlife Refuge learning about Everglades and Avian Ecology\n\n\nMorning Cruise\nMorning Tranquility: A Guided Boat Tour at Arthur R. Marshall Loxahatchee National Wildlife Refuge \nStart your day with a peaceful and scenic boat tour through the breathtaking wetlands of the Arthur R. Marshall Loxahatchee National Wildlife Refuge! Step aboard the Heron Now pontoon boat for a leisurely morning cruise\, where you’ll take in stunning landscapes\, watch birds and wildlife\, and immerse yourself in the beauty of the Everglades. \nLed by an expert guide\, this tour offers a deeper look into the refuge’s rich ecology\, the conservation of wading birds\, and the vital role of the American alligator as a keystone species. While this experience is perfect for photographers seeking incredible shots\, it’s also an opportunity to relax\, learn\, and appreciate the natural world. \n \nEvent Details:\nMeeting Place: The parking lot near the boat ramp \n(take Lee Road all the way back to the end.) \nField Guide & Captain: Avian ecologist Mike Baranski will be our boat captain and guide for the morning. Our AE Field Trip Cooridinator\, Paula Gatrell\, drives a yellow Bronco Sport. \nAge Requirement: This event is for ages 10 and older. \nCheck-in Time: 7:45 AMDeparture Time: 8:00 AM \nRequired Waiver: https://fareharbor.com/waivers?shortname=heronnowboattours&bookingUuid=457b6d72-17f1-49c5-b938-a8a701135165&source=copy-link \n \nEntry Fee:\n$10 per vehicle unless you have a park pass. \n \n \nRestrooms:\nAvailable inside the Visitors Center (opens at 9:00 AM) and outdoor facilities beside it. \nPorta Potty at the parking lot for the cruise. \n \nWhat to Bring:\n\nHeron Now’s required Waiver found here: https://fareharbor.com/waivers?shortname=heronnowboattours&bookingUuid=457b6d72-17f1-49c5-b938-a8a701135165&source=copy-link\nSnacks and non-alcoholic beverages\nAppropriate clothing for Florida weather (rain or shine)\nBug spray\nSunglasses (polarized recommended for better visibility in the water)\nOther sun protection (the boat’s Bimini top provides partial shade)\nHeadlamp with a red-light mode for night vision\n\n \nImportant Notes:\n\nRegistration Required: Advance registration is mandatory. Walk-ins cannot be accommodated.\nLimited Group Size: To ensure a personalized and enriching experience and due to boat capacity limits.\neBird Participation: A shared eBird list will be available. Please ensure you have an eBird account\, including a user ID and password\, to access the list. Discover more about eBird here: eBird.\nPhotography Notice: We encourage photographers to capture the beauty and fun of our birding adventures. By signing the AE consent\, you agree to having your photo taken and used on our social media pages. If you prefer not to have your photos shared\, please inform us in advance.\nConsideration for Others: If you register and find yourself unable to attend\, please cancel your ticket to allow others the opportunity to participate. Your cooperation is greatly appreciated.\n\n \nNo need to print your ticket; we will have your registration on file. For any questions\, contact us at fieldtrips@auduboneverglades.org. We look forward to sharing this birdwatching experience with you! \n\n\n\nExpert birder and Avian ecologist Mike Baranski will serve as our boat captain and field guide for this sunset cruise. Mike is a USCG certified Captain. The boat meets USCG standard and has personal flotation devices (PFDs).
URL:https://www.auduboneverglades.org/event/morning-cruise-at-the-loxahatchee-national-wildlife-refuge/
LOCATION:Arthur R. Marshall Loxahatchee National Wildlife Refuge\, 10216 Lee Road\, Boynton Beach\, FL\, 33473\, United States
ATTACH;FMTTYPE=image/jpeg:https://www.auduboneverglades.org/wp-content/uploads/2025/05/1fa32c887df016f316bf8cacea413610.jpg
END:VEVENT
BEGIN:VEVENT
DTSTART;TZID=America/New_York:20250527T180000
DTEND;TZID=America/New_York:20250527T193000
DTSTAMP:20260425T154941
CREATED:20250506T024024Z
LAST-MODIFIED:20250506T044014Z
UID:12879-1748368800-1748374200@www.auduboneverglades.org
SUMMARY:Bird Brain Trivia Night
DESCRIPTION:Hoist a pint and test your knowledge at our trivia night and find out who’s the biggest bird brain in town. No actual knowledge required!
URL:https://www.auduboneverglades.org/event/bird-brain-trivia-night/
LOCATION:Civil Society Brewing Co.\, 425 Kanuga Drive\, West Palm Beach\, FL\, 33401\, United States
ATTACH;FMTTYPE=image/jpeg:https://www.auduboneverglades.org/wp-content/uploads/2025/05/bb61a53e0f10b1a60757cf1ac9c2247f.jpg
END:VEVENT
END:VCALENDAR