BEGIN:VCALENDAR
VERSION:2.0
PRODID:-//Audubon Everglades - ECPv6.15.16//NONSGML v1.0//EN
CALSCALE:GREGORIAN
METHOD:PUBLISH
X-ORIGINAL-URL:https://www.auduboneverglades.org
X-WR-CALDESC:Events for Audubon Everglades
REFRESH-INTERVAL;VALUE=DURATION:PT1H
X-Robots-Tag:noindex
X-PUBLISHED-TTL:PT1H
BEGIN:VTIMEZONE
TZID:America/New_York
BEGIN:DAYLIGHT
TZOFFSETFROM:-0500
TZOFFSETTO:-0400
TZNAME:EDT
DTSTART:20240310T070000
END:DAYLIGHT
BEGIN:STANDARD
TZOFFSETFROM:-0400
TZOFFSETTO:-0500
TZNAME:EST
DTSTART:20241103T060000
END:STANDARD
BEGIN:DAYLIGHT
TZOFFSETFROM:-0500
TZOFFSETTO:-0400
TZNAME:EDT
DTSTART:20250309T070000
END:DAYLIGHT
BEGIN:STANDARD
TZOFFSETFROM:-0400
TZOFFSETTO:-0500
TZNAME:EST
DTSTART:20251102T060000
END:STANDARD
BEGIN:DAYLIGHT
TZOFFSETFROM:-0500
TZOFFSETTO:-0400
TZNAME:EDT
DTSTART:20260308T070000
END:DAYLIGHT
BEGIN:STANDARD
TZOFFSETFROM:-0400
TZOFFSETTO:-0500
TZNAME:EST
DTSTART:20261101T060000
END:STANDARD
END:VTIMEZONE
BEGIN:VEVENT
DTSTART;TZID=America/New_York:20250104T103000
DTEND;TZID=America/New_York:20250329T130000
DTSTAMP:20260425T182622
CREATED:20241222T183233Z
LAST-MODIFIED:20250121T230630Z
UID:12800-1735986600-1743253200@www.auduboneverglades.org
SUMMARY:Plants for Birds: Create Your Own Bird Sanctuary Series
DESCRIPTION:Audubon Everglades will guide you through established native plant gardens to learn how to attract and support resident and migratory birds.\n\n\nJoin us as Audubon Everglades takes you on a five-week journey to selected sites with established native plant gardens\, demonstrates how best to attract and support resident and migratory birds\, and helps you visualize which plants would thrive in your own bird sanctuary.  \nEach week you will have the opportunity to ask questions of experts in the native plant field. So\, if you’re trying to decide which native plants to acquire\, or wondering if your plot of land or balcony is big enough\, or which native plants your HOA will most likely allow\, this five-week series will help provide answers.  \nTaking place on various Saturday mornings from January 4 – March 29\, 2025\, we will explore five diverse urban and suburban habitats that nourish birds\, butterflies\, and pollinators with their fruit\, nectar\, seeds and leaves\, and visit two native plant nurseries. No matter how small your yard or balcony\, whether you live in an HOA\, have sugar sand soil\, or a wetland on your property\, this Bird Sanctuary Series will help you understand some of the limits and possibilities of the plot of land that you call home. \nDates and Locations: \n\nSaturday\, January 4\, 2025\, 10:30 AM – 12:00 PMPan’s Garden at Preservation Foundation of Palm Beach\nSaturday\, February 15\, 2025\, 10:30 AM – 12:00 PMRobert J. Huckshorn Arboretum\, FAU Jupiter Campus\nSaturday\, March 1\, 2025\, 9:30 AM – 12:30 PM(Two suburban yards\, including one in a gated HOA community)\nSaturday\, March 15\, 2025\, 11:00 AM – 1:30 PM(Two native plant nurseries)\nSaturday\, March 29\, 2025\, 10:30 AM – 1:00 PM(A suburban yard in a gated HOA community)\n\n \nEvent Details:\n\nMaximum Attendees: 20\nEvent Leaders: Helen Laurence\, Palm Beach County Master Gardener Volunteer\, Audubon Everglades Plants for Birds Committee\, Former Board Member\, Palm Beach County Chapter of the Florida Native Plant Society; Mary Young\, Audubon Everglades Plants for Birds Committee\nDuration: 5-Week Series\nCost: $30 for the entire 5-week series\nCost Includes: Refreshments at several locations and native plant giveaways\nAccessibility: Not handicap accessible\nAges: Adults only\nParking: Free parking at all locations\nRestrooms: Not available\n\n \nRegistration Information:\nCancellation Policy: Cancel anytime\, but no refunds after December 28\, 2024.Special Instructions: Registrants will receive a detailed syllabus with dates\, times\, locations\, directions\, and tips for preparing their own spaces.Hold Harmless Waiver: Required for participation. \nContact:For questions\, please contact Mary Young at mary@auduboneverglades.org.
URL:https://www.auduboneverglades.org/event/plants-for-birds-create-your-own-bird-sanctuary-series/
LOCATION:Pan’s Garden\, 311 Peruvian Avenue\, Palm Beach\, FL\, 33480\, United States
ATTACH;FMTTYPE=image/jpeg:https://www.auduboneverglades.org/wp-content/uploads/2024/12/295599fb4affc6dd92d0e142c273daee.jpg
END:VEVENT
BEGIN:VEVENT
DTSTART;TZID=America/New_York:20250302T080000
DTEND;TZID=America/New_York:20250302T100000
DTSTAMP:20260425T182622
CREATED:20241106T153148Z
LAST-MODIFIED:20250121T230632Z
UID:12701-1740902400-1740909600@www.auduboneverglades.org
SUMMARY:Tall Cypress Natural Area
DESCRIPTION:Join Bruce Pickholtz and Nick DeCesare along this elevated boardwalk.\n\n\nJoin Bruce and Nick looking for birds amongst the continuous canopy of Tall Cypress trees at this beautiful Broward County Park.  Bathrooms are available here. \nMeet In the Parking Lot.  \nAll ages and abilities welcome. The boardwalk is accessible to those with wheelchairs and assistive walking devices. \nCancellation Policy: \nIf you register but find yourself unable to attend\, please be considerate of others and cancel your ticket. \nPhotographs are a wonderful way to capture the beauty and fun of our birding adventures. We encourage photographers to take photos for their personal use and enjoyment and to share them on social media. By signing the AE consent\, you agree to having your photo taken and used on our social media page. \nThere will be a shared eBird list\, that goes to your email you registered with. \nIf you would like to accept this list\, you need an eBird account. \nThis requires a user ID and password. \neBird – Discover a new world of birding… \nYou can edit the species in the list by adding or removing them.
URL:https://www.auduboneverglades.org/event/tall-cypress-natural-area-29/
LOCATION:Tall Cypress Natural Area\, 3700 Turtle Run Boulevard\, Coral Springs\, FL\, 33065\, United States
ATTACH;FMTTYPE=image/jpeg:https://www.auduboneverglades.org/wp-content/uploads/2024/11/4a3394b04b5ae0fc3733c9fc298ec3db.jpg
END:VEVENT
BEGIN:VEVENT
DTSTART;TZID=America/New_York:20250302T190000
DTEND;TZID=America/New_York:20250302T220000
DTSTAMP:20260425T182622
CREATED:20240829T202633Z
LAST-MODIFIED:20240908T141103Z
UID:12448-1740942000-1740952800@www.auduboneverglades.org
SUMMARY:Tall Cypress Natural Area
DESCRIPTION:Join Bruce Pickholtz along this elevated boardwalk.
URL:https://www.auduboneverglades.org/event/tall-cypress-natural-area-23/
LOCATION:Tall Cypress Natural Area\, 3700 Turtle Run Boulevard\, Coral Springs\, FL\, 33065\, United States
ATTACH;FMTTYPE=image/jpeg:https://www.auduboneverglades.org/wp-content/uploads/2024/02/20c2766d562a167744e09f252bcb7d02.jpg
END:VEVENT
BEGIN:VEVENT
DTSTART;TZID=America/New_York:20250304T184500
DTEND;TZID=America/New_York:20250304T204500
DTSTAMP:20260425T182622
CREATED:20241126T221510Z
LAST-MODIFIED:20250121T230632Z
UID:12756-1741113900-1741121100@www.auduboneverglades.org
SUMMARY:Fireflies of Florida
DESCRIPTION:Join us for a closer look at a diverse\, overlooked\, and threatened fauna!\n\n\nFireflies in Florida?! Many Florida residents have never seen a lightning bug in the Sunshine State\, despite it being home to more species than any other state. In this virtual presentation\, Richard Joyce will explore firefly natural history and conservation\, with a focus on the species found in Florida and special attention to the Florida intertidal firefly\, an imperiled species that may be awaiting discovery in Palm Beach County. Learn about the threats to fireflies and how they can be addressed. Finally\, the presentation will introduce viewers to the activity of “fireflying” and provide an invitation to participate in the Firefly Atlas\, a community science project of the Xerces Society. \nAbout the Presenter \nRichard Joyce is an endangered species conservation biologist at the Xerces Society for Invertebrate Conservation\, whose mission is to protect the natural world by conserving invertebrates and their habitats. Before joining the Xerces Society three years ago\, Richard worked at The Nature Conservancy in Maine\, the Maine Natural Areas Program\, and Congaree National Park. He currently resides in Amherst\, Massachusetts\, but has made annual trips to Florida for firefly fieldwork. \nLearn more here: \nXerces Society (https://xerces.org/)Firefly Atlas (https://www.fireflyatlas.org/)
URL:https://www.auduboneverglades.org/event/fireflies-of-florida/
ATTACH;FMTTYPE=image/jpeg:https://www.auduboneverglades.org/wp-content/uploads/2024/11/73155a109c3618f15b3620300fd6b686.jpg
END:VEVENT
BEGIN:VEVENT
DTSTART;TZID=America/New_York:20250305T090000
DTEND;TZID=America/New_York:20250305T110000
DTSTAMP:20260425T182622
CREATED:20250101T000331Z
LAST-MODIFIED:20250121T230632Z
UID:12821-1741165200-1741172400@www.auduboneverglades.org
SUMMARY:Florida Scrub Jay Walk
DESCRIPTION:Enjoy a short walk as you witness the behavior of these endemic birds.\n\n\nThrough a partnership with Jonathan Dickinson State Park\, Audubon Everglades invites you to join us on their Florida Scrub Jay Walk. \nMeeting Place: From the check in station\, take a left turn less than 1/4 mile from the park entrance. There will be a parking lot on the right-hand side. \nYou will see an information sign Camp Murphy Off Road Bridge trail. \nEntrance Fee is $ 6.00 per vehicle. \nThe Florida scrub jay (Aphelocoma coerulescens) is one of the species of scrub jay native to North America. It is the only species of bird endemic to the U.S. state of Florida and one of only 15 species endemic to the continental United States. \nThe path is a well-documented spot where scrub jays have congregated for years\, and the federally-threatened birds are seen on most outings but not assured – they are wild animals. Any lightning close enough to hear thunder will cause immediate cancellation of the tour. Your guide\, Jim Howe\, will also accentuate the Florida scrub ecosystem itself and why fire is essential\, while pointing out gopher tortoise burrows and unique plants found only at JDSP. \nWalk meets less than 1/4 mile from the park entrance\, along the road to the Pine Grove Campground. We will take a once well-paved road\, that is now for foot and bicycle traffic only. The walk is between 1/4 and 1/2 mile in length\, on gently rolling\, open scrub terrain. \nRestrooms are located at the following locations: (bear Right from entrance) \nThe bicycling staging area at the Railroad Track Crossing. (porta-potty) \nThe Visitors Center at the back of the property\, about 4 miles in. \nThis is a monthly event\, the first Wednesday of the month.
URL:https://www.auduboneverglades.org/event/florida-scrub-jay-walk-15/
LOCATION:Jonathan Dickinson State Park\, 16450 Southeast Federal Highway\, Hobe Sound\, FL\, 33455\, United States
ATTACH;FMTTYPE=image/jpeg:https://www.auduboneverglades.org/wp-content/uploads/2024/12/e29e123b8d1acf69bab3215cffb806a5.jpg
END:VEVENT
BEGIN:VEVENT
DTSTART;TZID=America/New_York:20250307T083000
DTEND;TZID=America/New_York:20250307T103000
DTSTAMP:20260425T182622
CREATED:20240827T222403Z
LAST-MODIFIED:20250121T230632Z
UID:12397-1741336200-1741343400@www.auduboneverglades.org
SUMMARY:Birding at Wakodahatchee Wetlands
DESCRIPTION:Take a walk with Cathie Calvert around this birding hotspot.\n\n\nGuided Birding Adventure at Boynton Beach Wetlands \nJoin Cathie and Mark Calvert for an enriching birding experience at one of Boynton Beach’s premier hotspots. Stroll along the elevated boardwalks and immerse yourself in the beauty of this picturesque wetland. \nEvent Details: \n\nMeeting Point: At the top of the boardwalk; access via the ramp.\nAccessibility: The boardwalk is designed for easy access with wheelchairs and assistive walking devices.\nRestrooms: Available at the meeting point.\n\nAdditional Information: \n\neBird List: A shared eBird list will be provided. To access and contribute to the list\, please ensure you have an eBird account with your user ID and password. You can edit the list by adding or removing species as you observe them.\nParking: During peak months (February through April)\, parking may be limited. Please be patient and enjoy the scenery while waiting for a spot.\nRegistration: If you need to cancel\, please do so as soon as possible to allow others to participate.\n\nPhotography: We encourage you to capture the beauty of the wetlands and share your photos on social media. By signing the AE consent form\, you agree to have your photo taken and used on our social media pages as part of our birding community. \nFor Inquiries: Contact us fieldtrips@auduboneverglades.org for any questions or assistance. \nWe look forward to sharing this birding adventure with you and exploring the wonders of Boynton Beach Wetlands together!
URL:https://www.auduboneverglades.org/event/birding-at-wakodahatchee-wetlands-2/
LOCATION:Wakodahatchee Wetlands\, 13270 Jog Road\, Delray Beach\, FL\, 33484\, United States
ATTACH;FMTTYPE=image/jpeg:https://www.auduboneverglades.org/wp-content/uploads/2024/02/58ae9886df7c91fd5e9ee50fb62d33a8.jpg
END:VEVENT
BEGIN:VEVENT
DTSTART;TZID=America/New_York:20250309T073000
DTEND;TZID=America/New_York:20250309T093000
DTSTAMP:20260425T182622
CREATED:20250107T231804Z
LAST-MODIFIED:20250121T230632Z
UID:12835-1741505400-1741512600@www.auduboneverglades.org
SUMMARY:Green Cay Wetlands
DESCRIPTION:Enjoy an morning with Alice Terner  along this birding hotspot.\n\n\nEvent Description: Join Alice Terner for a guided birding walk along the elevated boardwalks of Delray Beach’s beautiful created wetlands. This is a fantastic opportunity to experience an up-close encounter with both resident birds and migratory visitors at this renowned birding hotspot. Whether you’re a seasoned birder or a newcomer\, this event is open to all ages and abilities. The boardwalk is fully accessible for those using wheelchairs or assistive walking devices. \nMeeting Point: \n\nLocation: Please meet by the Visitors Center. Restrooms are available at this location for your convenience.\n\nRegistration: Please register in advance to secure your spot. Walk-ins cannot be accommodated. \nCancellation Policy: \n\nConsiderate Cancellations: If you are unable to attend after registering\, please cancel your ticket as soon as possible to allow others the opportunity to participate.\n\neBird Participation: \n\nShared eBird List: A shared eBird list will be available for this event. To access and contribute to the list\, ensure you have an eBird account with a user ID and password. You can create an account here: eBird.\n\nPhotography Notice: \n\nEncouragement: We encourage participants to capture and share the beauty of this birding adventure. By signing the AE consent\, you agree to having your photo taken and used on our social media pages. If you prefer not to have your photos shared\, please notify us in advance.\n\nContact: \nFor any questions or additional information\, please contact fieldtrips@auduboneverglades.org. \nCome explore the wetlands and enjoy a memorable birding experience with us!
URL:https://www.auduboneverglades.org/event/green-cay-wetlands-25/
LOCATION:Green Cay Nature Center & Wetlands\, 12800 Hagen Ranch Road\, Boynton Beach\, FL\, 33437\, United States
ATTACH;FMTTYPE=image/jpeg:https://www.auduboneverglades.org/wp-content/uploads/2024/08/06b95468ee0e749f7a60d186f7b74465-1.jpg
END:VEVENT
BEGIN:VEVENT
DTSTART;TZID=America/New_York:20250315T075000
DTEND;TZID=America/New_York:20250315T115000
DTSTAMP:20260425T182622
CREATED:20240827T222403Z
LAST-MODIFIED:20250121T230632Z
UID:12399-1742025000-1742039400@www.auduboneverglades.org
SUMMARY:Lakeside Ranch STA
DESCRIPTION:Please join field guide John Nelson\, as we drive around this STA. We will stop and scope for birds.\n\n\nExplore Lakeside Ranch STA with Audubon of Martin County and SFWMD \nJoin us for an exclusive birding event at Lakeside Ranch Stormwater Treatment Area (STA)\, a pristine 2\,700-acre wetland located in western Martin County. Thanks to the collaborative efforts of Audubon of Martin County and the South Florida Water Management District (SFWMD)\, we have been granted special access to this remarkable location. \nEvent Details: \n\nDuration: Participants must exit the STA by 11:50 AM.\nFacilities: Restrooms are available at the entrance.\nRegistration: Registration is mandatory. Please RSVP with your vehicle full of attendees as one ticket to ensure an accurate headcount.\nLiability Release: Every participant must print and sign the South Florida Water Management District Liability Release\, including your address. Bring this release with you as it is required for participation.\n\nMeeting Point: \n\nLocation: Parking lot\nCheck-In: Look for Paula Gatrell\, who drives a Yellow Bronco.\nGPS Coordinates: N 27 degrees 07 minutes 09.43 seconds\, W 080 degrees 40 minutes 22.37 seconds\n\nAdditional Details: \n\nThis event is for both photographers and birders.\nPunctuality is essential; please consider possible traffic and GPS issues.\nCarpooling is encouraged due to vehicle limits on the berm.\n\nContact Information: \n\nFor inquiries or assistance\, contact fieldtrips@auduboneverglades.org.\n\neBird List: \n\nA shared eBird list will be sent to the email you used to register.\nTo access and edit this list\, you need an eBird account with a user ID and password. Learn more at eBird.\n\nPhotography Notice: \n\nWe encourage capturing the beauty of this adventure. By signing the AE consent\, you agree to have your photos used on our social media pages. If you prefer your photos not be shared\, please inform us in advance.\n\nSafety Notice: \n\nThis Stormwater Treatment Area contains alligators\, fire ants\, and other critters\, along with steep drop-offs. Please be cautious and watch your step when exiting the car.\n\nWe look forward to sharing this special outing with you and appreciate your cooperation in making this event enjoyable for everyone. \n\n\nAbout Your Guide \nJohn Nelson\, known as the “Voice of The Audubon Moment\,” began his journey as a photographer in the wilds of central Africa\, where he spent his high school years at Rift Valley Academy in Kenya. An accomplished photographer from a young age\, John’s passion for wildlife led him to document the rich biodiversity of Florida after moving to the U.S. \nIn 2008\, John transitioned from still photography to high-definition video\, allowing him to capture the dynamic behaviors of animals. To deepen his understanding of Florida’s environment\, he became a Florida Master Naturalist through the University of Florida in 2012. \nJohn is the president of the Martin County Audubon Chapter and spends nearly every week exploring the wilds of South and Central Florida\, often enduring challenging conditions to get the perfect shot. He also hosts “The Audubon Moment\,” a public radio show offering tips on identifying Florida’s diverse bird species. \n\n\n\nPhoto Credit: Stuart Magazine
URL:https://www.auduboneverglades.org/event/lakeside-ranch-sta/
LOCATION:Lakeside Ranch Stormwater Treatment Area\, 7250 SW Conners Hwy\, Okeechobee\, FL\, 34974\, United States
ATTACH;FMTTYPE=image/jpeg:https://www.auduboneverglades.org/wp-content/uploads/2024/08/b74e8192474648951cfbbb2f600f0f11.jpg
END:VEVENT
END:VCALENDAR