BEGIN:VCALENDAR
VERSION:2.0
PRODID:-//Audubon Everglades - ECPv6.15.16//NONSGML v1.0//EN
CALSCALE:GREGORIAN
METHOD:PUBLISH
X-WR-CALNAME:Audubon Everglades
X-ORIGINAL-URL:https://www.auduboneverglades.org
X-WR-CALDESC:Events for Audubon Everglades
REFRESH-INTERVAL;VALUE=DURATION:PT1H
X-Robots-Tag:noindex
X-PUBLISHED-TTL:PT1H
BEGIN:VTIMEZONE
TZID:America/New_York
BEGIN:DAYLIGHT
TZOFFSETFROM:-0500
TZOFFSETTO:-0400
TZNAME:EDT
DTSTART:20200308T070000
END:DAYLIGHT
BEGIN:STANDARD
TZOFFSETFROM:-0400
TZOFFSETTO:-0500
TZNAME:EST
DTSTART:20201101T060000
END:STANDARD
BEGIN:DAYLIGHT
TZOFFSETFROM:-0500
TZOFFSETTO:-0400
TZNAME:EDT
DTSTART:20210314T070000
END:DAYLIGHT
BEGIN:STANDARD
TZOFFSETFROM:-0400
TZOFFSETTO:-0500
TZNAME:EST
DTSTART:20211107T060000
END:STANDARD
BEGIN:DAYLIGHT
TZOFFSETFROM:-0500
TZOFFSETTO:-0400
TZNAME:EDT
DTSTART:20220313T070000
END:DAYLIGHT
BEGIN:STANDARD
TZOFFSETFROM:-0400
TZOFFSETTO:-0500
TZNAME:EST
DTSTART:20221106T060000
END:STANDARD
END:VTIMEZONE
BEGIN:VEVENT
DTSTART;TZID=America/New_York:20211016T080000
DTEND;TZID=America/New_York:20211016T130000
DTSTAMP:20260425T084713
CREATED:20210921T223625Z
LAST-MODIFIED:20210924T154955Z
UID:10366-1634371200-1634389200@www.auduboneverglades.org
SUMMARY:STA 5/6 Hendry Glades
DESCRIPTION:Field Guide: Hendry-Glades Staff  \n\n\n\nThrough a partnership with Hendry-Glades Audubon\, the South Florida Water Management District will offer the public escorted birding trips to Stormwater Treatment Area 5 (STA-5/6) located at the Blumberg Road Public Access Trailhead.  \n\n\n\nRegistration is required through Hendry Glades Audubon. For more Information and to register please visit:  https://www.hendrygladesaudubon.org/?page_id=110)   
URL:https://www.auduboneverglades.org/event/sta-5-6-hendry-glades/
CATEGORIES:Field Trips
ATTACH;FMTTYPE=image/png:https://www.auduboneverglades.org/wp-content/uploads/2021/09/Screen-Shot-2021-09-21-at-6.35.34-PM.png
END:VEVENT
BEGIN:VEVENT
DTSTART;TZID=America/New_York:20211011T080000
DTEND;TZID=America/New_York:20211011T110000
DTSTAMP:20260425T084713
CREATED:20210921T222437Z
LAST-MODIFIED:20211005T175158Z
UID:10363-1633939200-1633950000@www.auduboneverglades.org
SUMMARY:Orchard View Park
DESCRIPTION:Field Guide: Sue Young  \n\n\n\nJoin Sue Young on a birding walk through this six acre park.  \n\n\n\nMeet: Please meet near parking area.  No registration required.
URL:https://www.auduboneverglades.org/event/orchard-view-park/
LOCATION:Orchard View Park\, 4200 Old Germantown Rd\, Delray Beach\, Florida\, 33445
CATEGORIES:Field Trips
ATTACH;FMTTYPE=image/png:https://www.auduboneverglades.org/wp-content/uploads/2021/09/Screen-Shot-2021-09-21-at-6.23.46-PM.png
END:VEVENT
BEGIN:VEVENT
DTSTART;TZID=America/New_York:20211010T093000
DTEND;TZID=America/New_York:20211010T120000
DTSTAMP:20260425T084713
CREATED:20210921T221338Z
LAST-MODIFIED:20210924T155010Z
UID:10356-1633858200-1633867200@www.auduboneverglades.org
SUMMARY:Nature Journaling: It's for the Birds!
DESCRIPTION:Field Guide: Autumn Kioti   \n\n\n\nThis is part 2 of the Nature Journalling workshop. We will meet in person at Peaceful Waters Sanctuary in Wellington\, we will use the techniques taught in part 1; finding the questions in nature\, learning to create images “in the field\,” and using the natural world to take a journey deeper into ourselves and our artistic practices. Please meet at Peaceful Waters in the Parking lot.  \n\n\n\nThis workshop is offered through a partnership between Audubon Everglades and Wildness is Necessary. 
URL:https://www.auduboneverglades.org/event/nature-journaling-its-for-the-birds-2/
LOCATION:Peaceful Waters Sanctuary\, 11676 Pierson Road\, Wellington\, FL\, 33414\, United States
CATEGORIES:Field Trips
ATTACH;FMTTYPE=image/png:https://www.auduboneverglades.org/wp-content/uploads/2021/09/Screen-Shot-2021-09-21-at-6.16.17-PM.png
END:VEVENT
BEGIN:VEVENT
DTSTART;TZID=America/New_York:20211009T080000
DTEND;TZID=America/New_York:20211009T110000
DTSTAMP:20260425T084713
CREATED:20210921T214848Z
LAST-MODIFIED:20210925T164006Z
UID:10344-1633766400-1633777200@www.auduboneverglades.org
SUMMARY:Frenchman's Forest 
DESCRIPTION:Field Guide: Melanie & Steve Garcia  \n\n\n\nKnown as the Home of Seven Ecosystems\, this 172-acre natural area is a great spot to see migratory birds and many of the native bird inhabitants.  Meet in parking lot. No registration required.
URL:https://www.auduboneverglades.org/event/frenchmans-forest%e2%80%af/
LOCATION:Frenchman’s Forest\, 12201 Prosperity Farms Rd\, Palm Beach Gardens\, Florida\, 33410
CATEGORIES:Field Trips
ATTACH;FMTTYPE=image/png:https://www.auduboneverglades.org/wp-content/uploads/2021/09/Screen-Shot-2021-09-21-at-5.38.56-PM.png
END:VEVENT
BEGIN:VEVENT
DTSTART;TZID=America/New_York:20211008T183000
DTEND;TZID=America/New_York:20211008T193000
DTSTAMP:20260425T084713
CREATED:20210921T220152Z
LAST-MODIFIED:20210924T155102Z
UID:10350-1633717800-1633721400@www.auduboneverglades.org
SUMMARY:Nature Journaling: It's for the Birds!
DESCRIPTION:Field Guide: Autumn Kioti   \n\n\n\nIn this two part workshop\, one part virtual\, one part in-person experience\, journey to the crossroads of art\, ecology\, and exploration. During the virtual portion of the workshop\, we will begin by defining Autumn’s version of nature journaling and their materials\, and then explore various techniques in preparation for part 2 of the workshop. During part 2 of the workshop. we will meet in person at Peaceful Waters Sanctuary in Wellington\, we will use the techniques taught in part 1; finding the questions in nature\, learning to create images “in the field\,” and using the natural world to take a journey deeper into ourselves and our artistic practices.   \n\n\n\nThis workshop is offered through a partnership between Audubon Everglades and Wildness is Necessary.  \n\n\n\n\n\n\n\n\n\nRegister here: https://www.eventbrite.com/e/nature-journaling-its-for-the-birds-tickets-167952599747
URL:https://www.auduboneverglades.org/event/nature-journaling-its-for-the-birds/
CATEGORIES:Field Trips
ATTACH;FMTTYPE=image/png:https://www.auduboneverglades.org/wp-content/uploads/2021/09/Screen-Shot-2021-09-21-at-5.58.38-PM.png
END:VEVENT
BEGIN:VEVENT
DTSTART;TZID=America/New_York:20211006T120000
DTEND;TZID=America/New_York:20211006T130000
DTSTAMP:20260425T084713
CREATED:20210921T213140Z
LAST-MODIFIED:20210925T055804Z
UID:10337-1633521600-1633525200@www.auduboneverglades.org
SUMMARY:Robert J. Huckshorn Arboretum at FAU Jupiter Campus
DESCRIPTION:Field Guide: Tuly Datena and Alana Edwards  \n\n\n\nVisit this created native garden nestled within the North campus\, which showcases various South Florida ecosystems and is a favorite stopover for migratory birds.  Learn about the native plants and the birds and pollinators that frequent the area.   \n\n\n\nMeet at the Arboretum.
URL:https://www.auduboneverglades.org/event/robert-j-huckshorn-arboretum-at-fau-jupiter-campus/
LOCATION:Robert J. Huckshorn Arboretum\, 5353 Parkside Dr.\, Jupiter\, Florida\, 33458
CATEGORIES:Field Trips
ATTACH;FMTTYPE=image/png:https://www.auduboneverglades.org/wp-content/uploads/2021/09/Screen-Shot-2021-09-21-at-5.30.16-PM.png
END:VEVENT
BEGIN:VEVENT
DTSTART;TZID=America/New_York:20211006T090000
DTEND;TZID=America/New_York:20211006T110000
DTSTAMP:20260425T084713
CREATED:20210921T211833Z
LAST-MODIFIED:20210925T055849Z
UID:10330-1633510800-1633518000@www.auduboneverglades.org
SUMMARY:Jonathan Dickinson State Park Scrub Jay Walk
DESCRIPTION:Walk through the globally imperiled Florida scrub and learn about this unique ecosystem and the wildlife\, particularly the Florida Scrub Jay\, that depends on it to survive.  \n\n\n\nMeet: Take the first left after the entry to the Ranger Station\, then park in the small lot just ahead on the right.
URL:https://www.auduboneverglades.org/event/jonathan-dickinson-state-park-scrub-jay-walk/
LOCATION:Jonathon Dickenson State Park\, 16450 S.E. Federal Highway\, Hobe Sound\, Florida\, 33455
CATEGORIES:Field Trips
ATTACH;FMTTYPE=image/png:https://www.auduboneverglades.org/wp-content/uploads/2021/09/Screen-Shot-2021-09-21-at-5.15.20-PM.png
END:VEVENT
BEGIN:VEVENT
DTSTART;TZID=America/New_York:20211003T080000
DTEND;TZID=America/New_York:20211003T100000
DTSTAMP:20260425T084713
CREATED:20210921T210136Z
LAST-MODIFIED:20210925T060731Z
UID:10326-1633248000-1633255200@www.auduboneverglades.org
SUMMARY:Tall Cypress Natural Area 
DESCRIPTION:Join Bruce Pickholtz looking for birds amongst the continuous canopy of tall Cypress trees at this beautiful Broward County Park.  Please meet at the parking lot.
URL:https://www.auduboneverglades.org/event/tall-cypress-natural-area%e2%80%af/
LOCATION:Tall Cypress Natural Area\, 3700 Turtle Run Boulevard\, Coral Springs\, FL\, 33065\, United States
CATEGORIES:Field Trips
ATTACH;FMTTYPE=image/png:https://www.auduboneverglades.org/wp-content/uploads/2021/09/Screen-Shot-2021-09-20-at-8.35.10-PM.png
END:VEVENT
BEGIN:VEVENT
DTSTART;TZID=America/New_York:20211002T080000
DTEND;TZID=America/New_York:20211002T100000
DTSTAMP:20260425T084713
CREATED:20210921T051931Z
LAST-MODIFIED:20210925T055532Z
UID:10276-1633161600-1633168800@www.auduboneverglades.org
SUMMARY:Spanish River Park Birding
DESCRIPTION:Take a morning walk with Kenny Miller and discover the bird inhabitants and migratory visitors at the beautiful Spanish River Park located in Boca Raton.  There is a park entrance fee: $19.00 weekends.  Metered parking is available along the roadside.   \nPlease meet at the Northern most parking area.  \nNo registration required. 
URL:https://www.auduboneverglades.org/event/spanish-river-park-birding/
LOCATION:Spanish River Park\, 3001 N. State Road A-1-A\, Boca Raton\, FL\, 33431
CATEGORIES:Field Trips
ATTACH;FMTTYPE=image/jpeg:https://www.auduboneverglades.org/wp-content/uploads/2020/09/Gray-Catbird_American-beautyberry_Will-Stuart-_1_.jpg
END:VEVENT
END:VCALENDAR