BEGIN:VCALENDAR
VERSION:2.0
PRODID:-//Audubon Everglades - ECPv6.15.16//NONSGML v1.0//EN
CALSCALE:GREGORIAN
METHOD:PUBLISH
X-ORIGINAL-URL:https://www.auduboneverglades.org
X-WR-CALDESC:Events for Audubon Everglades
REFRESH-INTERVAL;VALUE=DURATION:PT1H
X-Robots-Tag:noindex
X-PUBLISHED-TTL:PT1H
BEGIN:VTIMEZONE
TZID:America/New_York
BEGIN:DAYLIGHT
TZOFFSETFROM:-0500
TZOFFSETTO:-0400
TZNAME:EDT
DTSTART:20240310T070000
END:DAYLIGHT
BEGIN:STANDARD
TZOFFSETFROM:-0400
TZOFFSETTO:-0500
TZNAME:EST
DTSTART:20241103T060000
END:STANDARD
BEGIN:DAYLIGHT
TZOFFSETFROM:-0500
TZOFFSETTO:-0400
TZNAME:EDT
DTSTART:20250309T070000
END:DAYLIGHT
BEGIN:STANDARD
TZOFFSETFROM:-0400
TZOFFSETTO:-0500
TZNAME:EST
DTSTART:20251102T060000
END:STANDARD
BEGIN:DAYLIGHT
TZOFFSETFROM:-0500
TZOFFSETTO:-0400
TZNAME:EDT
DTSTART:20260308T070000
END:DAYLIGHT
BEGIN:STANDARD
TZOFFSETFROM:-0400
TZOFFSETTO:-0500
TZNAME:EST
DTSTART:20261101T060000
END:STANDARD
END:VTIMEZONE
BEGIN:VEVENT
DTSTART;TZID=America/New_York:20251213T080000
DTEND;TZID=America/New_York:20251213T100000
DTSTAMP:20260425T072729
CREATED:20251015T002324Z
LAST-MODIFIED:20251213T040834Z
UID:13149-1765612800-1765620000@www.auduboneverglades.org
SUMMARY:Take a Walk on the Wild Side at J W Corbett Wildlife Management Area
DESCRIPTION:Join expert birder and avian ecologist Mike Baranski for a guided exploration of this unique Wildlife Management Area.\n\n\nTrip Overview \nJoin expert birder and avian ecologist Mike Baranski for a guided exploration of over 60\,000 acres of diverse habitat in J.W. Corbett Wildlife Management Area. Located just east of Lake Okeechobee and 25 miles northwest of West Palm Beach\, Corbett is part of both the Ocean to Lake Trail and the Great Florida Birding and Wildlife Trail. \nThis underbirded gem is known for its rich biodiversity and wide-open natural beauty. Past trips have revealed exciting species such as Vermilion Flycatcher\, Red-headed Woodpecker\, Wilson’s Snipe\, Ash-throated Flycatcher\, and large flocks of Sandhill Cranes. With a mix of pine flatwoods\, cypress swamps\, and open prairie\, this location offers excellent birding for all levels of experience. \nMeeting DetailsMeeting Point: South entrance\, behind the check-in station. Look for a log home on the left-hand side with parking behind it. \nAddress: 11835 Seminole Pratt Whitney Road\, West Palm Beach\, FL 33412 \nDirections: From Southern Blvd\, take Seminole Pratt Whitney Road. This road dead-ends into J.W. Corbett WMA. You’ll pass the Palm Beach Shooting Sports Complex. Turn left into the WMA just before the canal. If you pass the canal\, you’ve gone too far. \nImportant Information \n\nRegistration Encouraged: Please register in advance to secure your spot. Walk-ins are allowed only if space permits and must sign a waiver at check-in.\nGroup Size: Participation is limited for safety and a high-quality experience.\nVehicle Registration: One ticket per vehicle. If you’re riding together\, register as one. If you need or can offer a ride\, contact us and we’ll help coordinate.\nArrival Time: Please plan to arrive early to account for traffic or GPS errors.\nEntry Fee: $3 per person or $6 per vehicle unless you have a senior pass. Pay at the yellow self-check station and place the receipt in your windshield.\n\nTerrain and Accessibility \n\nAccessibility: Not wheelchair accessible\nTerrain Difficulty: Moderate. Routes include unpaved\, uneven roads with three low-water crossings. Not suitable for low-clearance vehicles.\nTrail Conditions: Some trails may be wet or muddy\, especially after rain. Please wear appropriate footwear suitable for rough and wet terrain.\nRestroom Access: Portable toilets are available along the route. A flush restroom is located at Hungryland Boardwalk.\n\nRoute (Subject to Change)South Grade → Boardwalk → Stumpers Grade → Tomato GradeStops will include birding hotspots and campsites where migrant birds are often observed. The final route is at the discretion of the trip leader. \nWhat to Bring \n\nInsect repellent\nAmple water\, snacks\, or lunch\nHat\, sunscreen\, and other sun/wind protection\nComfortable walking shoes or boots\nBinoculars (extras may be available to borrow)\n\nWildlife AdvisoryThis area is home to a variety of native wildlife\, including alligators\, snakes\, raccoons\, fire ants\, possums\, and possibly a resident bobcat. Please observe from a safe distance. \nPhotography and Media NoticeParticipants may be photographed during the trip. By attending\, you agree to allow use of your image in Audubon Everglades’ communications and social media unless you opt out by notifying the leader. \nContact: fieldtrips@auduboneverglades.org \nBird ChecklistWe will maintain a shared eBird checklist of sightings.Previous trip highlights (Jan 6\, 2024): 54 species observed. View checklist \nLearn MoreJ.W. Corbett Wildlife Management Area website:https://myfwc.com/recreation/lead/j-w-corbett-wma/ \n \nOptional Donation \nThis event is free to attend\, but if you are able\, we invite you to make an optional donation to support our Avian Conservation Fund. Your contribution helps us keep these experiences accessible to all and directly supports local conservation and education programs. \nYou can select an “Optional Donation” ticket during registration. Thank you for helping us protect Florida’s birds and habitats! \n \nAbout Audubon Everglades\nAudubon Everglades is dedicated to the conservation of birds and the environments they depend on. We offer field trips\, educational programs\, and community engagement throughout the Greater Everglades ecosystem. \nwww.auduboneverglades.org \n\n\n\nMeet Your Guide: Expert birder and Avian Biologist Mike Baranski will be serving as the field guide for this stunning Wildlife Management Area (WMA). Mike boasts the title of the top eBirder for this WMA\, having identified an impressive total of 148 species.
URL:https://www.auduboneverglades.org/event/take-a-walk-on-the-wild-side-at-j-w-corbett-wildlife-management-area/
LOCATION:West Palm Beach\, FL 33412\, 11835 Seminole Pratt Whitney Road\,\, West Palm Beach\, FL\, 33412\, United States
ATTACH;FMTTYPE=image/jpeg:https://www.auduboneverglades.org/wp-content/uploads/2024/02/a726979ccd58a69046b51840dab9cf0e.jpg
END:VEVENT
BEGIN:VEVENT
DTSTART;TZID=America/New_York:20251213T161500
DTEND;TZID=America/New_York:20251213T174500
DTSTAMP:20260425T072729
CREATED:20250916T213138Z
LAST-MODIFIED:20251213T040834Z
UID:12967-1765642500-1765647900@www.auduboneverglades.org
SUMMARY:Sunset Pontoon Cruise at ARM Loxahatchee NWR
DESCRIPTION:Relax on a scenic pontoon cruise at sunset\, watching wildlife settle in for the night at ARM Loxahatchee NWR. A peaceful evening awaits!\n\n\nSunset Cruise\nJoin us for a magical evening at the Arthur R. Marshall Loxahatchee National Wildlife Refuge! Climb aboard the Heron Now Boat Tours pontoon boat for a leisurely cruise as we enjoy the sunset over the beautiful wetlands. This event is a perfect opportunity to unwind and take in the stunning views of nature while watching birds and other wildlife settle in for the night. Don’t miss out on this unforgettable experience! \n \nEvent Details:\nMeeting Place: The parking Lot Near the Boat Ramp \n(take Lee Road all the way back to the end.) \nField Guide & Captain: Avian ecologist Mike Baranski will be our boat captain and guide for the evening. \nAge Requirement: This event is for ages 10 and older. \nCheck-in Time: 4:15 PMDeparture Time: 4:30 PM \nPlease be on time as the boat leaves at 4:30 sharp. Thank you! \n \nEntry Fee:\n$10 per vehicle unless you have a park pass. \n \nRestrooms:\nAvailable inside the Visitors Center (opens at 9:00 AM) and outdoor facilities beside it. \n \nWhat to Bring:\n\nSnacks and non-alcoholic beverages\nAppropriate clothing for Florida weather (rain or shine)\nBug spray\nSunglasses (polarized recommended for better visibility in the water)\nOther sun protection (the boat’s Bimini top provides partial shade)\nHeadlamp with a red-light mode for night vision\n\n \nImportant Notes:\n\nRegistration Required: Advance registration is mandatory. Walk-ins cannot be accommodated.\nLimited Group Size: To ensure a personalized and enriching experience and due to boat capacity limits.\neBird Participation: A shared eBird list will be available. Please ensure you have an eBird account\, including a user ID and password\, to access the list. Discover more about eBird here: eBird.\nPhotography Notice: We encourage photographers to capture the beauty and fun of our birding adventures. By signing the AE consent\, you agree to having your photo taken and used on our social media pages. If you prefer not to have your photos shared\, please inform us in advance.\nConsideration for Others: If you register and find yourself unable to attend\, please cancel your ticket to allow others the opportunity to participate. Your cooperation is greatly appreciated.\n\n \nNo need to print your ticket; we will have your registration on file. For any questions\, contact us at fieldtrips@auduboneverglades.org. We look forward to sharing this birdwatching experience with you! \n\n\n\nExpert birder and Avian ecologist Mike Baranski will serve as our boat captain and field guide for this sunset cruise. Mike is a USCG certified Captain. The boat meets USCG standard and has personal flotation devices (PFDs).
URL:https://www.auduboneverglades.org/event/sunset-pontoon-cruise-at-arm-loxahatchee-nwr-2/
LOCATION:Arthur R. Marshall Loxahatchee National Wildlife Refuge\, 10216 Lee Road\, Boynton Beach\, FL\, 33473\, United States
ATTACH;FMTTYPE=image/jpeg:https://www.auduboneverglades.org/wp-content/uploads/2025/09/7fe22bbe5ff2baecac528e8abbc3fa2e.jpg
END:VEVENT
END:VCALENDAR