BEGIN:VCALENDAR
VERSION:2.0
PRODID:-//Audubon Everglades - ECPv6.15.16//NONSGML v1.0//EN
CALSCALE:GREGORIAN
METHOD:PUBLISH
X-ORIGINAL-URL:https://www.auduboneverglades.org
X-WR-CALDESC:Events for Audubon Everglades
REFRESH-INTERVAL;VALUE=DURATION:PT1H
X-Robots-Tag:noindex
X-PUBLISHED-TTL:PT1H
BEGIN:VTIMEZONE
TZID:America/New_York
BEGIN:DAYLIGHT
TZOFFSETFROM:-0500
TZOFFSETTO:-0400
TZNAME:EDT
DTSTART:20240310T070000
END:DAYLIGHT
BEGIN:STANDARD
TZOFFSETFROM:-0400
TZOFFSETTO:-0500
TZNAME:EST
DTSTART:20241103T060000
END:STANDARD
BEGIN:DAYLIGHT
TZOFFSETFROM:-0500
TZOFFSETTO:-0400
TZNAME:EDT
DTSTART:20250309T070000
END:DAYLIGHT
BEGIN:STANDARD
TZOFFSETFROM:-0400
TZOFFSETTO:-0500
TZNAME:EST
DTSTART:20251102T060000
END:STANDARD
BEGIN:DAYLIGHT
TZOFFSETFROM:-0500
TZOFFSETTO:-0400
TZNAME:EDT
DTSTART:20260308T070000
END:DAYLIGHT
BEGIN:STANDARD
TZOFFSETFROM:-0400
TZOFFSETTO:-0500
TZNAME:EST
DTSTART:20261101T060000
END:STANDARD
END:VTIMEZONE
BEGIN:VEVENT
DTSTART;TZID=America/New_York:20251211T080000
DTEND;TZID=America/New_York:20251211T100000
DTSTAMP:20260425T072726
CREATED:20250506T044018Z
LAST-MODIFIED:20251211T035318Z
UID:12911-1765440000-1765447200@www.auduboneverglades.org
SUMMARY:Oak Hammock Park
DESCRIPTION:Come enjoy some early winter passerines at this little pocket park in Broward County\, Florida.\n\n\nReady for a new birding adventure?Join expert birder and scientist Dr. Corey Callaghan as we explore Oak Hammock Park—an 11+ acre natural oasis in the heart of the City of Sunrise! This unique site features beautiful boardwalks\, oak hammocks\, pine forests\, wetlands\, and a slice of Florida history. \nWith winding trails and exciting habitats\, it’s the perfect spot to learn about birds\, wildlife\, and the environment—all while having fun outdoors. Whether you’re a beginner or a seasoned birder\, you’ll walk away with new knowledge and maybe a new bird. \nWhat to Expect: \n\nA relaxed guided walk led by Dr. Callaghan\nBirdwatching\, biodiversity\, and cool science facts\nA mix of paved walkways\, mulch trails\, and boardwalks\nAncient trees\, wetland views\, and maybe even rare birds!\nJoin our shared eBird list to track what we see (free account needed)\n\nMeeting Spot:Use the provided address to meet in the parking lot. (There are two entrances\, so double-check yours!) \nRestrooms: YesAccessibility: Most of the park is accessible. A short section has mulch and dirt\, but assistance can be provided. \nPhotos & Social Media:We love seeing your nature pics! By registering\, you agree to photo sharing for AE’s social pages. Prefer not to be photographed? Just let us know ahead of time. \nImportant Reminders: \n\nRegistration is required—walk-ins if space allows.\nSpace is limited\, so cancel if you can’t attend to let someone on the waitlist in\nNo drones\, glass\, alcohol\, or littering\n\nQuestions or accommodation requests?Reach out at fieldtrips@auduboneverglades.org \n\n\n\nDr. Corey T. Callaghan is an Assistant Professor in the Department of Wildlife Ecology and Conservation at the University of Florida\, based at the Fort Lauderdale Research and Education Center in Davie\, Florida. His research focuses on leveraging ‘big data’\, often contributed through citizen science initiatives\, to understand biodiversity in space and time\, with an emphasis on how biodiversity responds to anthropogenic habitat modification. In his free time he can most often be found birding or iNatting. His favorite bird is a White Hawk! \nwww.coreytcallaghan.com
URL:https://www.auduboneverglades.org/event/oak-hammock-park-6/
LOCATION:Oak Hammock Park\, 9220 Northwest 44th Street\, Sunrise\, FL\, 33351\, United States
ATTACH;FMTTYPE=image/jpeg:https://www.auduboneverglades.org/wp-content/uploads/2024/08/0c40fe8b943ca4d391339bf6552c8c0a.jpg
END:VEVENT
END:VCALENDAR