BEGIN:VCALENDAR
VERSION:2.0
PRODID:-//Audubon Everglades - ECPv6.15.16//NONSGML v1.0//EN
CALSCALE:GREGORIAN
METHOD:PUBLISH
X-WR-CALNAME:Audubon Everglades
X-ORIGINAL-URL:https://www.auduboneverglades.org
X-WR-CALDESC:Events for Audubon Everglades
REFRESH-INTERVAL;VALUE=DURATION:PT1H
X-Robots-Tag:noindex
X-PUBLISHED-TTL:PT1H
BEGIN:VTIMEZONE
TZID:America/New_York
BEGIN:DAYLIGHT
TZOFFSETFROM:-0500
TZOFFSETTO:-0400
TZNAME:EDT
DTSTART:20240310T070000
END:DAYLIGHT
BEGIN:STANDARD
TZOFFSETFROM:-0400
TZOFFSETTO:-0500
TZNAME:EST
DTSTART:20241103T060000
END:STANDARD
BEGIN:DAYLIGHT
TZOFFSETFROM:-0500
TZOFFSETTO:-0400
TZNAME:EDT
DTSTART:20250309T070000
END:DAYLIGHT
BEGIN:STANDARD
TZOFFSETFROM:-0400
TZOFFSETTO:-0500
TZNAME:EST
DTSTART:20251102T060000
END:STANDARD
BEGIN:DAYLIGHT
TZOFFSETFROM:-0500
TZOFFSETTO:-0400
TZNAME:EDT
DTSTART:20260308T070000
END:DAYLIGHT
BEGIN:STANDARD
TZOFFSETFROM:-0400
TZOFFSETTO:-0500
TZNAME:EST
DTSTART:20261101T060000
END:STANDARD
END:VTIMEZONE
BEGIN:VEVENT
DTSTART;TZID=America/New_York:20251201T140000
DTEND;TZID=America/New_York:20251201T160000
DTSTAMP:20260425T072521
CREATED:20250928T224347Z
LAST-MODIFIED:20251201T220859Z
UID:13086-1764597600-1764604800@www.auduboneverglades.org
SUMMARY:Create Your Own Bird Sanctuary
DESCRIPTION:Learn why native plants are so important to birds and butterflies and how you can create a “Bird Sanctuary” in your yard or balcony.\n\n\nDescription\nImagine your yard filled with floating butterflies and more bird song than ever before. Through photographs and detailed information\, Audubon Everglades will show you why native plants are essential for birds and butterflies\, which native plants birds love most\, and where you can buy them. \nLearn how to create your own “Bird Sanctuary\,” whether in your yard or in pots on a balcony\, and help local and migrating birds thrive. Handouts will be provided\, and a few native plants will be given away to participants. \nMeet your presenters:\nHelen Laurence — Palm Beach County Master Gardener Volunteer and long-time champion for native plants. Helen contributes her expertise through the Audubon Everglades Plants for Birds Program and previously served on the board of the Palm Beach County Chapter of the Florida Native Plant Society. \nMary Young — A dedicated member of the Audubon Everglades Plants for Birds Program and current Board of Director with Audubon Everglades\, Mary brings her love for native ecosystems and practical insights to inspire others to create bird-friendly habitats. \n \nEvent Details\nPlease register directly through the Palm Beach County Library website. https://pbclibrary.bibliocommons.com/events/68d406eda3ce0fa7a6b7ed2a\nTickets from Audubon Everglades Eventbrite are not valid. Registration is only through the library site. \nCancellation\nCancellation Policy: Cancel anytime\, but please be courteous. Space is limited\, so cancel as soon as possible if you cannot attend to allow others to register. \nQuestions? Please contact Mary Young at mary@auduboneverglades.org.
URL:https://www.auduboneverglades.org/event/create-your-own-bird-sanctuary-2/
LOCATION:15801 Orange Blvd\, 15801 Orange Boulevard\, The Acreage\, FL\, 33470\, United States
ATTACH;FMTTYPE=image/jpeg:https://www.auduboneverglades.org/wp-content/uploads/2025/09/6134fb9b38339a962b20b4dec69ebe52.jpg
END:VEVENT
END:VCALENDAR