BEGIN:VCALENDAR
VERSION:2.0
PRODID:-//Audubon Everglades - ECPv6.15.16//NONSGML v1.0//EN
CALSCALE:GREGORIAN
METHOD:PUBLISH
X-WR-CALNAME:Audubon Everglades
X-ORIGINAL-URL:https://www.auduboneverglades.org
X-WR-CALDESC:Events for Audubon Everglades
REFRESH-INTERVAL;VALUE=DURATION:PT1H
X-Robots-Tag:noindex
X-PUBLISHED-TTL:PT1H
BEGIN:VTIMEZONE
TZID:America/New_York
BEGIN:DAYLIGHT
TZOFFSETFROM:-0500
TZOFFSETTO:-0400
TZNAME:EDT
DTSTART:20240310T070000
END:DAYLIGHT
BEGIN:STANDARD
TZOFFSETFROM:-0400
TZOFFSETTO:-0500
TZNAME:EST
DTSTART:20241103T060000
END:STANDARD
BEGIN:DAYLIGHT
TZOFFSETFROM:-0500
TZOFFSETTO:-0400
TZNAME:EDT
DTSTART:20250309T070000
END:DAYLIGHT
BEGIN:STANDARD
TZOFFSETFROM:-0400
TZOFFSETTO:-0500
TZNAME:EST
DTSTART:20251102T060000
END:STANDARD
BEGIN:DAYLIGHT
TZOFFSETFROM:-0500
TZOFFSETTO:-0400
TZNAME:EDT
DTSTART:20260308T070000
END:DAYLIGHT
BEGIN:STANDARD
TZOFFSETFROM:-0400
TZOFFSETTO:-0500
TZNAME:EST
DTSTART:20261101T060000
END:STANDARD
END:VTIMEZONE
BEGIN:VEVENT
DTSTART;TZID=America/New_York:20251123T090000
DTEND;TZID=America/New_York:20251123T110000
DTSTAMP:20260425T084546
CREATED:20251020T235342Z
LAST-MODIFIED:20251123T022219Z
UID:13167-1763888400-1763895600@www.auduboneverglades.org
SUMMARY:Field Sketching & Nature Journaling with Autumn Kioti
DESCRIPTION:Come get artistic\, inspired\, and birdy with us in this unique fusion of science and creativity at Riverbend Park!\n\n\nFREE for Audubon Everglades members at all membership levels$5 for non-members \nExplore\, Observe\, Create at Riverbend Park \nAudubon Everglades invites you to slow down\, look closely\, and connect with the natural world in a new way through field sketching and nature journaling. This creative outdoor experience is part of our ongoing series celebrating Florida’s native plants\, habitats\, and wildlife. \nWhether you’re an experienced naturalist\, a budding artist\, or someone who simply enjoys a quiet moment in nature\, this guided outing with artist and environmental storyteller Autumn Kioti (Audubon Everglades’ Director of Education and Outreach) offers a chance to see the landscape through a new lens—and put pencil to paper in the field. \nWe’ll explore the diverse habitats of Riverbend Park\, from shady hardwood hammocks to lush wet prairies\, all while learning techniques for capturing nature’s beauty in a sketchbook. You’ll leave with a deeper understanding of local ecosystems\, your own creative record of the day\, and a renewed appreciation for Florida’s wild places. \nBring your curiosity\, a pencil\, and your sense of wonder. \nYou’ll go home with a new Audubon Everglades nature journal just for joining us! \nSketching the Wild at Riverbend Park\nJoin Autumn for an immersive walk-and-sketch experience designed to inspire creativity and mindfulness in nature. \nWe’ll observe and interpret the landscape using drawing\, writing\, and field journaling techniques that help deepen our connection to the ecosystems around us. Expect moments of stillness\, bursts of inspiration\, and plenty of time to practice and play on the page. \nAlong the way\, Autumn will offer prompts\, demonstrations\, and field insights into the local plant and animal life. \nAll skill levels welcome. No art experience necessary…and we provide the sketchbook. \nPlease be aware that if there are fewer than 4 sign-ups for any Field Sketching session\, we will postpone and reschedule. \nWHAT TO EXPECT:\n\nTips\, prompts\, and live demonstrations for sketching and journaling in the field.\nOpportunities to observe native plants\, pollinators\, birds\, and other wildlife.\nQuiet moments to sit and sketch\, reflect\, and engage with your surroundings.\nA relaxed\, supportive atmosphere for creative exploration.\nField journaling resources and community sharing at the end of the walk.\n\nLOGISTICS:\nMain Entrance:Riverbend Park – 9060 Indiantown Road\, Jupiter\, FL 33478Meeting Spot:At the main parking lot near the kayak rental area and visitor kiosk.Restrooms:Available near the parking lot and trailhead. \nGood to Know:\n\nRegistration required. No walk-ins\, please.\nPlease arrive on time—we’ll head out shortly after check-in.\nThis event is rain or shine (bring rain gear just in case).\nTrails are natural—expect sandy paths and possible muddy or damp areas.\nPhotos may be taken for Audubon social media. Let us know if you prefer not to be photographed.\nCan’t make it? Please cancel your registration so someone else can join!\n\nWHAT TO BRING:\n\nA sketchbook\, journal\, or notepad (we’ll also be providing sketchbooks).\nYour favorite pens\, pencils\, or watercolors (minimal setup preferred).\nSomething to lean on\, such as a clipboard or book. We will have limited clipboards available to borrow.\nClosed-toe shoes suitable for natural trails.\nSun protection (hat\, sunglasses\, sunscreen).\nBug spray and reusable water bottle.\nA small portable stool\, chair or blanket to sit on if desired.\n\nYour Guide:\nAutumn Kioti –Artist\, Naturalist\, Audubon Everglades Director of Education and Outreach \nBlending environmental science\, storytelling\, and creative practice to help people see and connect with the wild world around them\, Autumn brings deep knowledge and playful curiosity to each outdoor experience. \nAutumn’s artwork has been seen throughout the US and internationally\, and their therapeutic nature journaling program is in demand throughout South Florida. \n \nWe love seeing your creations! Tag us on Instagram or Facebook and share your nature sketches and journals! \nQuestions or accommodation requests?Reach out to: fieldtrips@auduboneverglades.org \nCome get artistic\, inspired\, and birdy with us in this unique fusion of science and creativity at Riverbend Park!
URL:https://www.auduboneverglades.org/event/field-sketching-nature-journaling-with-autumn-kioti-2/
LOCATION:Riverbend Park\, 9060 West Indiantown Road\, Jupiter\, FL\, 33478\, United States
ATTACH;FMTTYPE=image/jpeg:https://www.auduboneverglades.org/wp-content/uploads/2025/10/4bbb0165d68d1b8d44ba86956c287a64.jpg
END:VEVENT
END:VCALENDAR