BEGIN:VCALENDAR
VERSION:2.0
PRODID:-//Audubon Everglades - ECPv6.15.16//NONSGML v1.0//EN
CALSCALE:GREGORIAN
METHOD:PUBLISH
X-ORIGINAL-URL:https://www.auduboneverglades.org
X-WR-CALDESC:Events for Audubon Everglades
REFRESH-INTERVAL;VALUE=DURATION:PT1H
X-Robots-Tag:noindex
X-PUBLISHED-TTL:PT1H
BEGIN:VTIMEZONE
TZID:America/New_York
BEGIN:DAYLIGHT
TZOFFSETFROM:-0500
TZOFFSETTO:-0400
TZNAME:EDT
DTSTART:20240310T070000
END:DAYLIGHT
BEGIN:STANDARD
TZOFFSETFROM:-0400
TZOFFSETTO:-0500
TZNAME:EST
DTSTART:20241103T060000
END:STANDARD
BEGIN:DAYLIGHT
TZOFFSETFROM:-0500
TZOFFSETTO:-0400
TZNAME:EDT
DTSTART:20250309T070000
END:DAYLIGHT
BEGIN:STANDARD
TZOFFSETFROM:-0400
TZOFFSETTO:-0500
TZNAME:EST
DTSTART:20251102T060000
END:STANDARD
BEGIN:DAYLIGHT
TZOFFSETFROM:-0500
TZOFFSETTO:-0400
TZNAME:EDT
DTSTART:20260308T070000
END:DAYLIGHT
BEGIN:STANDARD
TZOFFSETFROM:-0400
TZOFFSETTO:-0500
TZNAME:EST
DTSTART:20261101T060000
END:STANDARD
END:VTIMEZONE
BEGIN:VEVENT
DTSTART;TZID=America/New_York:20251108T080000
DTEND;TZID=America/New_York:20251108T100000
DTSTAMP:20260425T101616
CREATED:20250916T213133Z
LAST-MODIFIED:20251103T010801Z
UID:12958-1762588800-1762596000@www.auduboneverglades.org
SUMMARY:Morning Cruise at the Loxahatchee National Wildlife Refuge
DESCRIPTION:Enjoy a peaceful morning boat tour through Arthur Marshall Loxahatchee National Wildlife Refuge learning about Everglades and Avian Ecology\n\n\nMorning Cruise\nMorning Tranquility: A Guided Boat Tour at Arthur R. Marshall Loxahatchee National Wildlife Refuge \nStart your day with a peaceful and scenic boat tour through the breathtaking wetlands of the Arthur R. Marshall Loxahatchee National Wildlife Refuge! Step aboard the Heron Now pontoon boat for a leisurely morning cruise\, where you’ll take in stunning landscapes\, watch birds and wildlife\, and immerse yourself in the beauty of the Everglades. \nLed by an expert guide\, this tour offers a deeper look into the refuge’s rich ecology\, the conservation of wading birds\, and the vital role of the American alligator as a keystone species. While this experience is perfect for photographers seeking incredible shots\, it’s also an opportunity to relax\, learn\, and appreciate the natural world. \n \nEvent Details:\nMeeting Place: The parking lot near the boat ramp \n(take Lee Road all the way back to the end.) \nField Guide & Captain: Avian ecologist Mike Baranski will be our boat captain and guide for the morning. Our AE Field Trip Cooridinator\, Paula Gatrell\, drives a yellow Bronco Sport. \nAge Requirement: This event is for ages 10 and older. \nCheck-in Time: 7:45 AMDeparture Time: 8:00 AM \nRequired Waiver: https://fareharbor.com/waivers?shortname=heronnowboattours&bookingUuid=457b6d72-17f1-49c5-b938-a8a701135165&source=copy-link \n \nEntry Fee:\n$10 per vehicle unless you have a park pass. \n \n \nRestrooms:\nAvailable inside the Visitors Center (opens at 9:00 AM) and outdoor facilities beside it. \nPorta Potty at the parking lot for the cruise. \n \nWhat to Bring:\n\nHeron Now’s required Waiver found here: https://fareharbor.com/waivers?shortname=heronnowboattours&bookingUuid=457b6d72-17f1-49c5-b938-a8a701135165&source=copy-link\nSnacks and non-alcoholic beverages\nAppropriate clothing for Florida weather (rain or shine)\nBug spray\nSunglasses (polarized recommended for better visibility in the water)\nOther sun protection (the boat’s Bimini top provides partial shade)\nHeadlamp with a red-light mode for night vision\n\n \nImportant Notes:\n\nRegistration Required: Advance registration is mandatory. Walk-ins cannot be accommodated.\nLimited Group Size: To ensure a personalized and enriching experience and due to boat capacity limits.\neBird Participation: A shared eBird list will be available. Please ensure you have an eBird account\, including a user ID and password\, to access the list. Discover more about eBird here: eBird.\nPhotography Notice: We encourage photographers to capture the beauty and fun of our birding adventures. By signing the AE consent\, you agree to having your photo taken and used on our social media pages. If you prefer not to have your photos shared\, please inform us in advance.\nConsideration for Others: If you register and find yourself unable to attend\, please cancel your ticket to allow others the opportunity to participate. Your cooperation is greatly appreciated.\n\n \nNo need to print your ticket; we will have your registration on file. For any questions\, contact us at fieldtrips@auduboneverglades.org. We look forward to sharing this birdwatching experience with you! \n\n\n\nExpert birder and Avian ecologist Mike Baranski will serve as our boat captain and field guide for this sunset cruise. Mike is a USCG certified Captain. The boat meets USCG standard and has personal flotation devices (PFDs).
URL:https://www.auduboneverglades.org/event/morning-cruise-at-the-loxahatchee-national-wildlife-refuge-2/
LOCATION:Arthur R. Marshall Loxahatchee National Wildlife Refuge\, 10216 Lee Road\, Boynton Beach\, FL\, 33473\, United States
ATTACH;FMTTYPE=image/jpeg:https://www.auduboneverglades.org/wp-content/uploads/2025/05/1fa32c887df016f316bf8cacea413610.jpg
END:VEVENT
BEGIN:VEVENT
DTSTART;TZID=America/New_York:20251108T080000
DTEND;TZID=America/New_York:20251108T113000
DTSTAMP:20260425T101616
CREATED:20250916T213132Z
LAST-MODIFIED:20251108T013844Z
UID:12957-1762588800-1762601400@www.auduboneverglades.org
SUMMARY:Birding Arthur R. Marshall Loxahatchee NWR with Kar DeGeiso
DESCRIPTION:Whether you are new to birding\, or have a lot of experience\, there is something for everyone. Come join us and explore the Refuge!\n\n\nAbout this event: \n\nDate: 11/08/25\nStart time: 8:00am\nEnd Time: 11:30am\nEvent lasts 3 1/2 hours\nUNDER 18 WITH PARENT OR LEGAL GUARDIAN\n\nBirding Arthur R. Marshall Loxahatchee NWR with birder Kar DeGeiso \nMeeting Spot: Arthur R. Marshall Loxahatchee NWR Visitor Center \nJoin birder Kar DeGeiso and Audubon Everglades for a field trip to two sections of the Loxahatchee NWR. Meet up at the NWR Visitor Center and we will explore the Cypress Swamp Boardwalk\, looking for woodland birds\, located right behind the Visitor Center. Next stop will be the Marsh Trail for wading and water birds. \nThis is a great opportunity to get outside\, learn from a leading ornithologist\, and connect with people who love nature as much as you do. \nWhat to Expect: \n\nA guided walk through two areas of the NWR\nA chance to see birds in a group\nAn eBird trip list to which you can contribute (bring your account info!)\n\nLogistics: \n\nParking Lots: we will be using 2 parking lots. 1st – the visitor center 2. Marsh trail lot\nMeet Up: Meet in the Visitor Center parking lot\nRestrooms: Available in/near the Visitor Center\nFEE- NWR fees apply\n\nBring: \n\nWater\nSunscreen\nBug spray\nHat\nBinoculars\nCamera\nSmart phone\n\nGood to Know: \n\nRegistration is required. No walk-ins.\nBe on time so we can make the most of our time in the field.\nRain or shine\, unless there’s a hurricane.\nPhotos may be taken for social media. Let us know if you’d rather not be included.\nPlease cancel if you can’t make it—someone else may be waiting.\nUnder 18? Bring an adult.\n\nAccessibility Information: \n\nParking: Some accessible parking available at the Visitor Center and Marsh Trail.\nRestrooms: Accessible restrooms located near and inside the Visitor Center.\nBenches: Benches are available for resting at the visitor center and at the start of the Marsh Trail.\nTrail Width: The boardwalk trail is typically 4 feet wide\, the Marsh Trail ~8 feet wide.\nSurface: Boardwalk and flat grassy surface with some roots and bumps.\nCell Phone Service: Cell service may be intermittent on the trail.\n\nWe strive to host inclusive\, accessible events. For those who need an accommodation or have inquiries about accessibility\, please contact Autumn at fieldtrips@auduboneverglades.org \nQuestions? Reach out: fieldtrips@auduboneverglades.org \nAbout Your Guide \nKar DeGeiso \nKar is an Animal/Plant Science major. She has been birding for over 40 years. Kar lived in Delaware and has birded a lot of the Eastern MidAtlantic states. She has volunteered in research projects with Red Knots\, Saw-whet Owls and has worked for American Birding Association and Delaware Museum of Natural History where she was a docent and worked in the Bird Collections\, making skins for the collections. Kar moved down to Florida\, permanently 4 years ago. An avid birder and hiker\, she loves to hike the parks and see what she can find.
URL:https://www.auduboneverglades.org/event/birding-arthur-r-marshall-loxahatchee-nwr-with-kar-degeiso-2/
LOCATION:Arthur R. Marshall Loxahatchee National Wildlife Refuge\, 10216 Lee Road\, Boynton Beach\, FL\, 33473\, United States
ATTACH;FMTTYPE=image/jpeg:https://www.auduboneverglades.org/wp-content/uploads/2025/09/29c6ddee311a9b714153a4b5b10b611d.jpg
END:VEVENT
END:VCALENDAR