BEGIN:VCALENDAR
VERSION:2.0
PRODID:-//Audubon Everglades - ECPv6.15.16//NONSGML v1.0//EN
CALSCALE:GREGORIAN
METHOD:PUBLISH
X-ORIGINAL-URL:https://www.auduboneverglades.org
X-WR-CALDESC:Events for Audubon Everglades
REFRESH-INTERVAL;VALUE=DURATION:PT1H
X-Robots-Tag:noindex
X-PUBLISHED-TTL:PT1H
BEGIN:VTIMEZONE
TZID:America/New_York
BEGIN:DAYLIGHT
TZOFFSETFROM:-0500
TZOFFSETTO:-0400
TZNAME:EDT
DTSTART:20240310T070000
END:DAYLIGHT
BEGIN:STANDARD
TZOFFSETFROM:-0400
TZOFFSETTO:-0500
TZNAME:EST
DTSTART:20241103T060000
END:STANDARD
BEGIN:DAYLIGHT
TZOFFSETFROM:-0500
TZOFFSETTO:-0400
TZNAME:EDT
DTSTART:20250309T070000
END:DAYLIGHT
BEGIN:STANDARD
TZOFFSETFROM:-0400
TZOFFSETTO:-0500
TZNAME:EST
DTSTART:20251102T060000
END:STANDARD
BEGIN:DAYLIGHT
TZOFFSETFROM:-0500
TZOFFSETTO:-0400
TZNAME:EDT
DTSTART:20260308T070000
END:DAYLIGHT
BEGIN:STANDARD
TZOFFSETFROM:-0400
TZOFFSETTO:-0500
TZNAME:EST
DTSTART:20261101T060000
END:STANDARD
END:VTIMEZONE
BEGIN:VEVENT
DTSTART;TZID=America/New_York:20251028T180000
DTEND;TZID=America/New_York:20251028T193000
DTSTAMP:20260425T113841
CREATED:20251014T002242Z
LAST-MODIFIED:20251029T010822Z
UID:13144-1761674400-1761679800@www.auduboneverglades.org
SUMMARY:Bird Brain Trivia Night with Autumn Kioti
DESCRIPTION:Hoist a pint and test your knowledge at our trivia night and find out who’s the biggest bird brain in town. No actual knowledge required!\n\n\nTalk birdy with us at Civil Society Brewing Co. in West Palm Beach on the fourth Tuesday of every month. Bring your flock\, compete alone\, or join up with some new bird-brained friends to unwind while showing off your knowledge or learning something new. No previous knowledge required\, just a desire to relax and have fun with host Autumn Kioti.  And maybe you’ll win a little prize\, who knows? \nRegistration is not mandatory\, you can just show up and join in. \nAbout our partners: \nBirdNote is an independent media production organization that brings joy\, inspiration\, and hope to millions of people around the world who value birds and the environment we share. Learn more here: https://birdnote.org/ \nCivil Society Brewing is all about the inspiration and the gratitude of friends and family. It is all about a passion for great beer\, a pleasure in developing the craft\, and creating a great place for the community. Drink civilized. \nAbout your host: \nAutumn Kioti is Audubon Everglades’ Director of Education and Outreach\, a professional actor\, interdisciplinary artist\, educator\, and hardcore nerder of birds.
URL:https://www.auduboneverglades.org/event/bird-brain-trivia-night-with-autumn-kioti/
LOCATION:Civil Society Brewing Co.\, 425 Kanuga Drive\, West Palm Beach\, FL\, 33401\, United States
ATTACH;FMTTYPE=image/jpeg:https://www.auduboneverglades.org/wp-content/uploads/2025/10/d9f2bce292a8deb0fc95e53c1c1ac9fd.jpg
END:VEVENT
END:VCALENDAR