BEGIN:VCALENDAR
VERSION:2.0
PRODID:-//Audubon Everglades - ECPv6.15.16//NONSGML v1.0//EN
CALSCALE:GREGORIAN
METHOD:PUBLISH
X-WR-CALNAME:Audubon Everglades
X-ORIGINAL-URL:https://www.auduboneverglades.org
X-WR-CALDESC:Events for Audubon Everglades
REFRESH-INTERVAL;VALUE=DURATION:PT1H
X-Robots-Tag:noindex
X-PUBLISHED-TTL:PT1H
BEGIN:VTIMEZONE
TZID:America/New_York
BEGIN:DAYLIGHT
TZOFFSETFROM:-0500
TZOFFSETTO:-0400
TZNAME:EDT
DTSTART:20240310T070000
END:DAYLIGHT
BEGIN:STANDARD
TZOFFSETFROM:-0400
TZOFFSETTO:-0500
TZNAME:EST
DTSTART:20241103T060000
END:STANDARD
BEGIN:DAYLIGHT
TZOFFSETFROM:-0500
TZOFFSETTO:-0400
TZNAME:EDT
DTSTART:20250309T070000
END:DAYLIGHT
BEGIN:STANDARD
TZOFFSETFROM:-0400
TZOFFSETTO:-0500
TZNAME:EST
DTSTART:20251102T060000
END:STANDARD
BEGIN:DAYLIGHT
TZOFFSETFROM:-0500
TZOFFSETTO:-0400
TZNAME:EDT
DTSTART:20260308T070000
END:DAYLIGHT
BEGIN:STANDARD
TZOFFSETFROM:-0400
TZOFFSETTO:-0500
TZNAME:EST
DTSTART:20261101T060000
END:STANDARD
END:VTIMEZONE
BEGIN:VEVENT
DTSTART;TZID=America/New_York:20251011T080000
DTEND;TZID=America/New_York:20251011T113000
DTSTAMP:20260425T101457
CREATED:20250916T213124Z
LAST-MODIFIED:20251011T073744Z
UID:12950-1760169600-1760182200@www.auduboneverglades.org
SUMMARY:The Big Sit!
DESCRIPTION:Get ready for the ultimate birding chill-out session at the “Big Sit!” event at Peaceful Waters with Linda McCandless.\n\n\nJoin us for a delightful day of birding and nature at Peaceful Waters Sanctuary on Saturday\, October 11\, 2024\, as part of Audubon Everglades’ annual Big Sit! event. You’re invited to drop by and partake in the excitement anytime between 8:00 am. and 11:30 am. at the gazebo located in the middle of the board walk. This event typically involves sitting\, chatting with fellow bird enthusiasts\, and unwinding amidst the serene surroundings. It offers a unique opportunity to observe how bird activity evolves throughout the day. The gazebo provides some respite from the sun. \nThis location is accessible for individuals with disabilities and is perfect for families. The gazebo comfortably accommodates approximately 10 people at a time. \nThe Big Sit! is an annual\, global birding event that is non-competitive and proudly sponsored by Birdwatchers Digest. It was originally conceived by the New Haven Bird Club. Some have likened it to a “tailgate party for birders.” Within the gazebo\, we’ll establish an imaginary circle with a 17-foot diameter. From 8:00 a.m. to 11:30 am \, we’ll count all the bird species we see or hear from within this circle. That’s all there is to it. Find a spot\, sit\, enjoy yourself\, and then we’ll compile our observations. \nParticipants are welcome to come and go from the circle\, especially for trips to replenish food or water supplies. Big Sit! circles can be found all over the world\, including in places like Guatemala\, India\, the Netherlands\, England\, Vietnam\, and New Zealand. \nLearn More about the Big Sit: https://www.thebigsit.org
URL:https://www.auduboneverglades.org/event/the-big-sit-2/
LOCATION:Peaceful Waters Sanctuary\, 11676 Pierson Road\, Wellington\, FL\, 33414\, United States
ATTACH;FMTTYPE=image/jpeg:https://www.auduboneverglades.org/wp-content/uploads/2024/08/05245cd644bad1b19ec19027b872a0d5.jpg
END:VEVENT
END:VCALENDAR