BEGIN:VCALENDAR
VERSION:2.0
PRODID:-//Audubon Everglades - ECPv6.15.16//NONSGML v1.0//EN
CALSCALE:GREGORIAN
METHOD:PUBLISH
X-ORIGINAL-URL:https://www.auduboneverglades.org
X-WR-CALDESC:Events for Audubon Everglades
REFRESH-INTERVAL;VALUE=DURATION:PT1H
X-Robots-Tag:noindex
X-PUBLISHED-TTL:PT1H
BEGIN:VTIMEZONE
TZID:America/New_York
BEGIN:DAYLIGHT
TZOFFSETFROM:-0500
TZOFFSETTO:-0400
TZNAME:EDT
DTSTART:20240310T070000
END:DAYLIGHT
BEGIN:STANDARD
TZOFFSETFROM:-0400
TZOFFSETTO:-0500
TZNAME:EST
DTSTART:20241103T060000
END:STANDARD
BEGIN:DAYLIGHT
TZOFFSETFROM:-0500
TZOFFSETTO:-0400
TZNAME:EDT
DTSTART:20250309T070000
END:DAYLIGHT
BEGIN:STANDARD
TZOFFSETFROM:-0400
TZOFFSETTO:-0500
TZNAME:EST
DTSTART:20251102T060000
END:STANDARD
BEGIN:DAYLIGHT
TZOFFSETFROM:-0500
TZOFFSETTO:-0400
TZNAME:EDT
DTSTART:20260308T070000
END:DAYLIGHT
BEGIN:STANDARD
TZOFFSETFROM:-0400
TZOFFSETTO:-0500
TZNAME:EST
DTSTART:20261101T060000
END:STANDARD
END:VTIMEZONE
BEGIN:VEVENT
DTSTART;TZID=America/New_York:20251004T080000
DTEND;TZID=America/New_York:20251004T113000
DTSTAMP:20260425T101619
CREATED:20250916T213118Z
LAST-MODIFIED:20251004T172336Z
UID:12945-1759564800-1759577400@www.auduboneverglades.org
SUMMARY:Birding Arthur R. Marshall Loxahatchee NWR with Kar DeGeiso
DESCRIPTION:Whether you are new to birding\, or have a lot of experience\, there is something for everyone. Come join us and explore the Refuge!\n\n\nAbout this event: \n\nDate: 10/4/25\nStart time: 8:00am\nEnd Time: 11:30am\nEvent lasts 3 1/2 hours\nUNDER 18 WITH PARENT OR LEGAL GUARDIAN\n\nBirding Arthur R. Marshall Loxahatchee NWR with birder Kar DeGeiso \nMeeting Spot: Arthur R. Marshall Loxahatchee NWR Visitor Center \nJoin birder Kar DeGeiso and Audubon Everglades for a field trip to two sections of the Loxahatchee NWR. Meet up at the NWR Visitor Center and we will explore the Cypress Swamp Boardwalk\, looking for woodland birds\, located right behind the Visitor Center. Next stop will be the Marsh Trail for wading and water birds. \nThis is a great opportunity to get outside\, learn from a leading ornithologist\, and connect with people who love nature as much as you do. \nWhat to Expect: \n\nA guided walk through two areas of the NWR\nA chance to see birds in a group\nAn eBird trip list to which you can contribute (bring your account info!)\n\nLogistics: \n\nParking Lots: we will be using 2 parking lots. 1st – the visitor center 2. Marsh trail lot\nMeet Up: Meet in the Visitor Center parking lot\nRestrooms: Available in/near the Visitor Center\nFEE- NWR fees apply\n\nBring: \n\nWater\nSunscreen\nBug spray\nHat\nBinoculars\nCamera\nSmart phone\n\nGood to Know: \n\nRegistration is required. No walk-ins.\nBe on time so we can make the most of our time in the field.\nRain or shine\, unless there’s a hurricane.\nPhotos may be taken for social media. Let us know if you’d rather not be included.\nPlease cancel if you can’t make it—someone else may be waiting.\nUnder 18? Bring an adult.\n\nAccessibility Information: \n\nParking: Some accessible parking available at the Visitor Center and Marsh Trail.\nRestrooms: Accessible restrooms located near and inside the Visitor Center.\nBenches: Benches are available for resting at the visitor center and at the start of the Marsh Trail.\nTrail Width: The boardwalk trail is typically 4 feet wide\, the Marsh Trail ~8 feet wide.\nSurface: Boardwalk and flat grassy surface with some roots and bumps.\nCell Phone Service: Cell service may be intermittent on the trail.\n\nWe strive to host inclusive\, accessible events. For those who need an accommodation or have inquiries about accessibility\, please contact Autumn at fieldtrips@auduboneverglades.org \nQuestions? Reach out: fieldtrips@auduboneverglades.org \nAbout Your Guide \nKar DeGeiso   \nKar is an Animal/Plant Science major. She has been birding for over 40 years. Kar lived in Delaware and has birded a lot of the Eastern MidAtlantic states. She has volunteered in research projects with Red Knots\, Saw-whet Owls and has worked for American Birding Association and Delaware Museum of Natural History where she was a docent and worked in the Bird Collections\, making skins for the collections. Kar moved down to Florida\, permanently 4 years ago. An avid birder and hiker\, she loves to hike the parks and see what she can find.
URL:https://www.auduboneverglades.org/event/birding-arthur-r-marshall-loxahatchee-nwr-with-kar-degeiso/
LOCATION:Arthur R. Marshall Loxahatchee National Wildlife Refuge\, 10216 Lee Road\, Boynton Beach\, FL\, 33473\, United States
ATTACH;FMTTYPE=image/jpeg:https://www.auduboneverglades.org/wp-content/uploads/2025/09/29c6ddee311a9b714153a4b5b10b611d.jpg
END:VEVENT
END:VCALENDAR