BEGIN:VCALENDAR
VERSION:2.0
PRODID:-//Audubon Everglades - ECPv6.15.16//NONSGML v1.0//EN
CALSCALE:GREGORIAN
METHOD:PUBLISH
X-WR-CALNAME:Audubon Everglades
X-ORIGINAL-URL:https://www.auduboneverglades.org
X-WR-CALDESC:Events for Audubon Everglades
REFRESH-INTERVAL;VALUE=DURATION:PT1H
X-Robots-Tag:noindex
X-PUBLISHED-TTL:PT1H
BEGIN:VTIMEZONE
TZID:America/New_York
BEGIN:DAYLIGHT
TZOFFSETFROM:-0500
TZOFFSETTO:-0400
TZNAME:EDT
DTSTART:20240310T070000
END:DAYLIGHT
BEGIN:STANDARD
TZOFFSETFROM:-0400
TZOFFSETTO:-0500
TZNAME:EST
DTSTART:20241103T060000
END:STANDARD
BEGIN:DAYLIGHT
TZOFFSETFROM:-0500
TZOFFSETTO:-0400
TZNAME:EDT
DTSTART:20250309T070000
END:DAYLIGHT
BEGIN:STANDARD
TZOFFSETFROM:-0400
TZOFFSETTO:-0500
TZNAME:EST
DTSTART:20251102T060000
END:STANDARD
BEGIN:DAYLIGHT
TZOFFSETFROM:-0500
TZOFFSETTO:-0400
TZNAME:EDT
DTSTART:20260308T070000
END:DAYLIGHT
BEGIN:STANDARD
TZOFFSETFROM:-0400
TZOFFSETTO:-0500
TZNAME:EST
DTSTART:20261101T060000
END:STANDARD
END:VTIMEZONE
BEGIN:VEVENT
DTSTART;TZID=America/New_York:20250927T090000
DTEND;TZID=America/New_York:20250927T130000
DTSTAMP:20260425T113710
CREATED:20250916T213115Z
LAST-MODIFIED:20250927T140800Z
UID:12942-1758963600-1758978000@www.auduboneverglades.org
SUMMARY:HawkWatch with David Simpson
DESCRIPTION:Discover the world of hawks! Join us at John D. MacArthur State Park on Sept  27\, 9:00 am. Perfect for all ages. Don’t miss it!\n\n\nEvery fall\, Florida welcomes thousands of birds from all over as they make their way south for the winter. While many of these birds stop for a bite to eat along the way\, some are in trouble\, including hawks. \nThe Raptor Population Index Project\, which has been studying migration for the past ten years from Panama to Canada\, recently shared some important news. While species such as bald eagles and vultures are improving\, others like sharp-shinned hawks and northern harriers are declining. Hawks are large\, daytime hunters that help keep nature balanced\, so these changes are concerning. \nThat’s where the HawkWatch program plays a vital role. HawkWatch is a citizen-science initiative where volunteers count migrating raptors at key locations\, providing invaluable data to track population trends and guide conservation efforts. \nBut here’s some good news for you! If you’re interested in raptors and want to learn more about hawks\, there’s a fantastic opportunity waiting: Join us at the beautiful John D. MacArthur Beach State Park on Friday\, September 27th at 9:00 AM for “HawkWatch with David Simpson.” \nWhether you’re a seasoned birder or just starting out\, this event is for everyone of all ages. You’ll hopefully see hawks soaring above\, learn to recognize their mesmerizing flights\, and gain a deeper appreciation for these magnificent creatures. Best of all\, you’ll have the chance to actively participate in the HawkWatch count and contribute directly to the data that helps scientists monitor raptor populations. \nBring your binoculars! We’ll also have spotting scopes and a limited number of spare binoculars available. \n \nEvent Details\nMeeting Location: Boardwalk\, middle benches \nAddress: 10900 Jack Nicklaus Drive\, North Palm Beach\, FL 33408 \nEntry Fee: \n\n$5 standard parking fee per car (up to 8 occupants)\nRegister at least one week in advance for free admission and complimentary parking – thank you\, John D. MacArthur State Park!\nConsider the Florida State Parks Annual Entrance Pass –individual: $60\, family (up to 8 people): $120 – valid for unlimited access to all state parks for a year Florida State Parks.Available at park gates or online.\n\nCheck-In Time: 9:00 AM \nParking: Plenty of spaces available \nRestrooms: Yes \nAccessibility: \n\nADA-compliant electric tram to the beach\nAccessible picnic areas\, nature center\, and boardwalks\nSandy trails may be challenging for some wheelchair users\n\nWhat to Bring\n\nWater (refill station available)\nSnacks and/or lunch\nBinoculars\nCamera\nSpotting scope\nSunscreen\nInsect repellent\nWide-brimmed hat\n\nImportant Reminders: \n\nRegistration is required – walk-ins if space allows.\nSpace is limited\, so cancel if you can’t attend to let someone on the waitlist in\nNo drones\, glass\, alcohol\, or littering\n\nPhotos & Social Media:By registering\, you agree to us sharing photos from the event for AE’s social pages. Prefer not to be photographed? Just let us know ahead of time. \nWe love seeing your nature pics! Tag us on Instagram and Facebook \nQuestions or accommodation requests? Reach out at fieldtrips@auduboneverglades.org \n\n\nLearn more about your trip leader: \nDavid has spent a lifetime in the outdoors of Florida. His first passion is birds\, but his interest also lies in frogs\, snakes\, plants\, ecosystems\, history (both natural and cultural)\, and many other areas. He worked for the Florida Park Service for over 12 years in parks like St. Sebastian River Preserve State Park\, and Kissimmee River Preserve State Park where he learned much about habitat restoration and management. He runs Birding with David Simpson with his wife\, Dee. They provide customized birding tours\, classes\, and consulting services. He often leads trips with Audubon societies and other similar organizations. He is currently the field trip coordinator for Space Coast Birding and Wildlife Festival. You can find out more about is adventures\, including our upcoming trip to Guatemala with Holbrook. Travel on his website: www.BirdingwithDavidSimpson.com
URL:https://www.auduboneverglades.org/event/hawkwatch-with-david-simpson/
LOCATION:MacArthur Beach State Park\, 10900 Jack Nicklaus Drive\, North Palm Beach\, FL\, 33408\, United States
ATTACH;FMTTYPE=image/jpeg:https://www.auduboneverglades.org/wp-content/uploads/2025/09/6cf71c4a9beb668a3d8e89ef6241293e.jpg
END:VEVENT
END:VCALENDAR