BEGIN:VCALENDAR
VERSION:2.0
PRODID:-//Audubon Everglades - ECPv6.15.16//NONSGML v1.0//EN
CALSCALE:GREGORIAN
METHOD:PUBLISH
X-ORIGINAL-URL:https://www.auduboneverglades.org
X-WR-CALDESC:Events for Audubon Everglades
REFRESH-INTERVAL;VALUE=DURATION:PT1H
X-Robots-Tag:noindex
X-PUBLISHED-TTL:PT1H
BEGIN:VTIMEZONE
TZID:America/New_York
BEGIN:DAYLIGHT
TZOFFSETFROM:-0500
TZOFFSETTO:-0400
TZNAME:EDT
DTSTART:20240310T070000
END:DAYLIGHT
BEGIN:STANDARD
TZOFFSETFROM:-0400
TZOFFSETTO:-0500
TZNAME:EST
DTSTART:20241103T060000
END:STANDARD
BEGIN:DAYLIGHT
TZOFFSETFROM:-0500
TZOFFSETTO:-0400
TZNAME:EDT
DTSTART:20250309T070000
END:DAYLIGHT
BEGIN:STANDARD
TZOFFSETFROM:-0400
TZOFFSETTO:-0500
TZNAME:EST
DTSTART:20251102T060000
END:STANDARD
BEGIN:DAYLIGHT
TZOFFSETFROM:-0500
TZOFFSETTO:-0400
TZNAME:EDT
DTSTART:20260308T070000
END:DAYLIGHT
BEGIN:STANDARD
TZOFFSETFROM:-0400
TZOFFSETTO:-0500
TZNAME:EST
DTSTART:20261101T060000
END:STANDARD
END:VTIMEZONE
BEGIN:VEVENT
DTSTART;TZID=America/New_York:20250406T080000
DTEND;TZID=America/New_York:20250406T100000
DTSTAMP:20260425T182043
CREATED:20241106T153152Z
LAST-MODIFIED:20250121T230633Z
UID:12703-1743926400-1743933600@www.auduboneverglades.org
SUMMARY:Tall Cypress Natural Area
DESCRIPTION:Join Bruce Pickholtz and Nick DeCesare along this elevated boardwalk.\n\n\nJoin Bruce and Nick looking for birds amongst the continuous canopy of Tall Cypress trees at this beautiful Broward County Park.  Bathrooms are available here. \nMeet In the Parking Lot.  \nAll ages and abilities welcome. The boardwalk is accessible to those with wheelchairs and assistive walking devices. \nCancellation Policy: \nIf you register but find yourself unable to attend\, please be considerate of others and cancel your ticket. \nPhotographs are a wonderful way to capture the beauty and fun of our birding adventures. We encourage photographers to take photos for their personal use and enjoyment and to share them on social media. By signing the AE consent\, you agree to having your photo taken and used on our social media page. \nThere will be a shared eBird list\, that goes to your email you registered with. \nIf you would like to accept this list\, you need an eBird account. \nThis requires a user ID and password. \neBird – Discover a new world of birding… \nYou can edit the species in the list by adding or removing them.
URL:https://www.auduboneverglades.org/event/tall-cypress-natural-area-30/
LOCATION:Tall Cypress Natural Area\, 3700 Turtle Run Boulevard\, Coral Springs\, FL\, 33065\, United States
ATTACH;FMTTYPE=image/jpeg:https://www.auduboneverglades.org/wp-content/uploads/2024/11/cd6342b0d8270ce7d8d1d316cd110de0.jpg
END:VEVENT
BEGIN:VEVENT
DTSTART;TZID=America/New_York:20250406T190000
DTEND;TZID=America/New_York:20250406T220000
DTSTAMP:20260425T182043
CREATED:20240829T202634Z
LAST-MODIFIED:20240908T141109Z
UID:12449-1743966000-1743976800@www.auduboneverglades.org
SUMMARY:Tall Cypress Natural Area
DESCRIPTION:Join Bruce Pickholtz along this elevated boardwalk.
URL:https://www.auduboneverglades.org/event/tall-cypress-natural-area-24/
LOCATION:Tall Cypress Natural Area\, 3700 Turtle Run Boulevard\, Coral Springs\, FL\, 33065\, United States
ATTACH;FMTTYPE=image/jpeg:https://www.auduboneverglades.org/wp-content/uploads/2024/02/20c2766d562a167744e09f252bcb7d02.jpg
END:VEVENT
END:VCALENDAR