BEGIN:VCALENDAR
VERSION:2.0
PRODID:-//Audubon Everglades - ECPv6.15.16//NONSGML v1.0//EN
CALSCALE:GREGORIAN
METHOD:PUBLISH
X-WR-CALNAME:Audubon Everglades
X-ORIGINAL-URL:https://www.auduboneverglades.org
X-WR-CALDESC:Events for Audubon Everglades
REFRESH-INTERVAL;VALUE=DURATION:PT1H
X-Robots-Tag:noindex
X-PUBLISHED-TTL:PT1H
BEGIN:VTIMEZONE
TZID:America/New_York
BEGIN:DAYLIGHT
TZOFFSETFROM:-0500
TZOFFSETTO:-0400
TZNAME:EDT
DTSTART:20240310T070000
END:DAYLIGHT
BEGIN:STANDARD
TZOFFSETFROM:-0400
TZOFFSETTO:-0500
TZNAME:EST
DTSTART:20241103T060000
END:STANDARD
BEGIN:DAYLIGHT
TZOFFSETFROM:-0500
TZOFFSETTO:-0400
TZNAME:EDT
DTSTART:20250309T070000
END:DAYLIGHT
BEGIN:STANDARD
TZOFFSETFROM:-0400
TZOFFSETTO:-0500
TZNAME:EST
DTSTART:20251102T060000
END:STANDARD
BEGIN:DAYLIGHT
TZOFFSETFROM:-0500
TZOFFSETTO:-0400
TZNAME:EDT
DTSTART:20260308T070000
END:DAYLIGHT
BEGIN:STANDARD
TZOFFSETFROM:-0400
TZOFFSETTO:-0500
TZNAME:EST
DTSTART:20261101T060000
END:STANDARD
END:VTIMEZONE
BEGIN:VEVENT
DTSTART;TZID=America/New_York:20250405T083000
DTEND;TZID=America/New_York:20250405T103000
DTSTAMP:20260425T182512
CREATED:20240827T222406Z
LAST-MODIFIED:20250121T230633Z
UID:12401-1743841800-1743849000@www.auduboneverglades.org
SUMMARY:Wakodahatchee Wetlands
DESCRIPTION:Take a walk with Cathie and Mark Calvert around this birding hotspot.\n\n\nGuided Birding Adventure at Boynton Beach Wetlands \nJoin Cathie and Mark Calvert for an enriching birding experience at one of Boynton Beach’s premier hotspots. Stroll along the elevated boardwalks and immerse yourself in the beauty of this picturesque wetland. \nEvent Details: \n\nMeeting Point: At the top of the boardwalk; access via the ramp.\nAccessibility: The boardwalk is designed for easy access with wheelchairs and assistive walking devices.\nRestrooms: Available at the meeting point.\n\nAdditional Information: \n\neBird List: A shared eBird list will be provided. To access and contribute to the list\, please ensure you have an eBird account with your user ID and password. You can edit the list by adding or removing species as you observe them.\nParking: During peak months (February through April)\, parking may be limited. Please be patient and enjoy the scenery while waiting for a spot.\nRegistration: If you need to cancel\, please do so as soon as possible to allow others to participate.\n\nPhotography: We encourage you to capture the beauty of the wetlands and share your photos on social media. By signing the AE consent form\, you agree to have your photo taken and used on our social media pages as part of our birding community. \nFor Inquiries: Contact us fieldtrips@auduboneverglades.org for any questions or assistance. \nWe look forward to sharing this birding adventure with you and exploring the wonders of Boynton Beach Wetlands together!
URL:https://www.auduboneverglades.org/event/wakodahatchee-wetlands-24/
LOCATION:Wakodahatchee Wetlands\, 13270 Jog Road\, Delray Beach\, FL\, 33484\, United States
ATTACH;FMTTYPE=image/jpeg:https://www.auduboneverglades.org/wp-content/uploads/2024/02/0f8dbb857bad64252cb99a11de7ab3da.jpg
END:VEVENT
END:VCALENDAR