BEGIN:VCALENDAR
VERSION:2.0
PRODID:-//Audubon Everglades - ECPv6.15.16//NONSGML v1.0//EN
CALSCALE:GREGORIAN
METHOD:PUBLISH
X-ORIGINAL-URL:https://www.auduboneverglades.org
X-WR-CALDESC:Events for Audubon Everglades
REFRESH-INTERVAL;VALUE=DURATION:PT1H
X-Robots-Tag:noindex
X-PUBLISHED-TTL:PT1H
BEGIN:VTIMEZONE
TZID:America/New_York
BEGIN:DAYLIGHT
TZOFFSETFROM:-0500
TZOFFSETTO:-0400
TZNAME:EDT
DTSTART:20240310T070000
END:DAYLIGHT
BEGIN:STANDARD
TZOFFSETFROM:-0400
TZOFFSETTO:-0500
TZNAME:EST
DTSTART:20241103T060000
END:STANDARD
BEGIN:DAYLIGHT
TZOFFSETFROM:-0500
TZOFFSETTO:-0400
TZNAME:EDT
DTSTART:20250309T070000
END:DAYLIGHT
BEGIN:STANDARD
TZOFFSETFROM:-0400
TZOFFSETTO:-0500
TZNAME:EST
DTSTART:20251102T060000
END:STANDARD
BEGIN:DAYLIGHT
TZOFFSETFROM:-0500
TZOFFSETTO:-0400
TZNAME:EDT
DTSTART:20260308T070000
END:DAYLIGHT
BEGIN:STANDARD
TZOFFSETFROM:-0400
TZOFFSETTO:-0500
TZNAME:EST
DTSTART:20261101T060000
END:STANDARD
END:VTIMEZONE
BEGIN:VEVENT
DTSTART;TZID=America/New_York:20250402T090000
DTEND;TZID=America/New_York:20250402T110000
DTSTAMP:20260425T182536
CREATED:20250101T000334Z
LAST-MODIFIED:20250121T230633Z
UID:12823-1743584400-1743591600@www.auduboneverglades.org
SUMMARY:Florida Scrub Jay Walk
DESCRIPTION:Enjoy a short walk as you witness the behavior of these endemic birds.\n\n\nThrough a partnership with Jonathan Dickinson State Park\, Audubon Everglades invites you to join us on their Florida Scrub Jay Walk. \nMeeting Place: From the check in station\, take a left turn less than 1/4 mile from the park entrance. There will be a parking lot on the right-hand side. \nYou will see an information sign Camp Murphy Off Road Bridge trail. \nEntrance Fee is $ 6.00 per vehicle. \nThe Florida scrub jay (Aphelocoma coerulescens) is one of the species of scrub jay native to North America. It is the only species of bird endemic to the U.S. state of Florida and one of only 15 species endemic to the continental United States. \nThe path is a well-documented spot where scrub jays have congregated for years\, and the federally-threatened birds are seen on most outings but not assured – they are wild animals. Any lightning close enough to hear thunder will cause immediate cancellation of the tour. Your guide\, Jim Howe\, will also accentuate the Florida scrub ecosystem itself and why fire is essential\, while pointing out gopher tortoise burrows and unique plants found only at JDSP. \nWalk meets less than 1/4 mile from the park entrance\, along the road to the Pine Grove Campground. We will take a once well-paved road\, that is now for foot and bicycle traffic only. The walk is between 1/4 and 1/2 mile in length\, on gently rolling\, open scrub terrain. \nRestrooms are located at the following locations: (bear Right from entrance) \nThe bicycling staging area at the Railroad Track Crossing. (porta-potty) \nThe Visitors Center at the back of the property\, about 4 miles in. \nThis is a monthly event\, the first Wednesday of the month.
URL:https://www.auduboneverglades.org/event/florida-scrub-jay-walk-16/
LOCATION:Jonathan Dickinson State Park\, 16450 Southeast Federal Highway\, Hobe Sound\, FL\, 33455\, United States
ATTACH;FMTTYPE=image/jpeg:https://www.auduboneverglades.org/wp-content/uploads/2024/09/22f3a72ccbc240014df12379a8ac1968-1.jpg
END:VEVENT
END:VCALENDAR