BEGIN:VCALENDAR
VERSION:2.0
PRODID:-//Audubon Everglades - ECPv6.15.16//NONSGML v1.0//EN
CALSCALE:GREGORIAN
METHOD:PUBLISH
X-ORIGINAL-URL:https://www.auduboneverglades.org
X-WR-CALDESC:Events for Audubon Everglades
REFRESH-INTERVAL;VALUE=DURATION:PT1H
X-Robots-Tag:noindex
X-PUBLISHED-TTL:PT1H
BEGIN:VTIMEZONE
TZID:America/New_York
BEGIN:DAYLIGHT
TZOFFSETFROM:-0500
TZOFFSETTO:-0400
TZNAME:EDT
DTSTART:20240310T070000
END:DAYLIGHT
BEGIN:STANDARD
TZOFFSETFROM:-0400
TZOFFSETTO:-0500
TZNAME:EST
DTSTART:20241103T060000
END:STANDARD
BEGIN:DAYLIGHT
TZOFFSETFROM:-0500
TZOFFSETTO:-0400
TZNAME:EDT
DTSTART:20250309T070000
END:DAYLIGHT
BEGIN:STANDARD
TZOFFSETFROM:-0400
TZOFFSETTO:-0500
TZNAME:EST
DTSTART:20251102T060000
END:STANDARD
BEGIN:DAYLIGHT
TZOFFSETFROM:-0500
TZOFFSETTO:-0400
TZNAME:EDT
DTSTART:20260308T070000
END:DAYLIGHT
BEGIN:STANDARD
TZOFFSETFROM:-0400
TZOFFSETTO:-0500
TZNAME:EST
DTSTART:20261101T060000
END:STANDARD
END:VTIMEZONE
BEGIN:VEVENT
DTSTART;TZID=America/New_York:20250104T103000
DTEND;TZID=America/New_York:20250329T130000
DTSTAMP:20260425T224601
CREATED:20241222T183233Z
LAST-MODIFIED:20250121T230630Z
UID:12800-1735986600-1743253200@www.auduboneverglades.org
SUMMARY:Plants for Birds: Create Your Own Bird Sanctuary Series
DESCRIPTION:Audubon Everglades will guide you through established native plant gardens to learn how to attract and support resident and migratory birds.\n\n\nJoin us as Audubon Everglades takes you on a five-week journey to selected sites with established native plant gardens\, demonstrates how best to attract and support resident and migratory birds\, and helps you visualize which plants would thrive in your own bird sanctuary.  \nEach week you will have the opportunity to ask questions of experts in the native plant field. So\, if you’re trying to decide which native plants to acquire\, or wondering if your plot of land or balcony is big enough\, or which native plants your HOA will most likely allow\, this five-week series will help provide answers.  \nTaking place on various Saturday mornings from January 4 – March 29\, 2025\, we will explore five diverse urban and suburban habitats that nourish birds\, butterflies\, and pollinators with their fruit\, nectar\, seeds and leaves\, and visit two native plant nurseries. No matter how small your yard or balcony\, whether you live in an HOA\, have sugar sand soil\, or a wetland on your property\, this Bird Sanctuary Series will help you understand some of the limits and possibilities of the plot of land that you call home. \nDates and Locations: \n\nSaturday\, January 4\, 2025\, 10:30 AM – 12:00 PMPan’s Garden at Preservation Foundation of Palm Beach\nSaturday\, February 15\, 2025\, 10:30 AM – 12:00 PMRobert J. Huckshorn Arboretum\, FAU Jupiter Campus\nSaturday\, March 1\, 2025\, 9:30 AM – 12:30 PM(Two suburban yards\, including one in a gated HOA community)\nSaturday\, March 15\, 2025\, 11:00 AM – 1:30 PM(Two native plant nurseries)\nSaturday\, March 29\, 2025\, 10:30 AM – 1:00 PM(A suburban yard in a gated HOA community)\n\n \nEvent Details:\n\nMaximum Attendees: 20\nEvent Leaders: Helen Laurence\, Palm Beach County Master Gardener Volunteer\, Audubon Everglades Plants for Birds Committee\, Former Board Member\, Palm Beach County Chapter of the Florida Native Plant Society; Mary Young\, Audubon Everglades Plants for Birds Committee\nDuration: 5-Week Series\nCost: $30 for the entire 5-week series\nCost Includes: Refreshments at several locations and native plant giveaways\nAccessibility: Not handicap accessible\nAges: Adults only\nParking: Free parking at all locations\nRestrooms: Not available\n\n \nRegistration Information:\nCancellation Policy: Cancel anytime\, but no refunds after December 28\, 2024.Special Instructions: Registrants will receive a detailed syllabus with dates\, times\, locations\, directions\, and tips for preparing their own spaces.Hold Harmless Waiver: Required for participation. \nContact:For questions\, please contact Mary Young at mary@auduboneverglades.org.
URL:https://www.auduboneverglades.org/event/plants-for-birds-create-your-own-bird-sanctuary-series/
LOCATION:Pan’s Garden\, 311 Peruvian Avenue\, Palm Beach\, FL\, 33480\, United States
ATTACH;FMTTYPE=image/jpeg:https://www.auduboneverglades.org/wp-content/uploads/2024/12/295599fb4affc6dd92d0e142c273daee.jpg
END:VEVENT
BEGIN:VEVENT
DTSTART;TZID=America/New_York:20250131T100000
DTEND;TZID=America/New_York:20250131T120000
DTSTAMP:20260425T224601
CREATED:20241227T005038Z
LAST-MODIFIED:20250121T230630Z
UID:12808-1738317600-1738324800@www.auduboneverglades.org
SUMMARY:Birding by Air Boat
DESCRIPTION:Explore Lake Okeechobee on an Airboat Adventure!\n\n\nEvent Description: \nDiscover the natural wonders of Florida on a unique airboat tour through Lake Okeechobee and the Florida Everglades. This is your chance to witness breathtaking scenery and capture incredible wildlife moments among the diverse wetlands. \nOn this adventure\, you may spot: \n\nBirds: American Bittern\, American Kestrels\, Bald Eagles\, Purple and Common Gallinule\, Ospreys\, Snail Kites\, and Red-shouldered Hawks.\nWildlife: Turtles\, frogs\, rabbits\, snakes\, and the iconic American alligator.\n\nOur Captain will guide us along Steins Canal\, to Kramer Island\, and out onto Lake Okeechobee. Routes may vary depending on water levels. \n \nEvent Details\nMeeting Point: At the boat ramp. \n\nTake the second left as you cross the bridge onto the island.\nThe boat docks are at the end of the parking lot.\n\nCost: $120 for members\, $145 for non-members (includes boat ride & gratuity). Payment instructions will follow upon registration. \n \nWhat to Expect\nAttire: \n\nBring a jacket\, as lake temperatures drop quickly.\nClosed-toed shoes that can get wet.\nProvided: Ear protection will be supplied by the airboat operator.\nField Guide: This tour focuses on fun and adventure. A field guide will not be provided.\nRestroom Facilities: Available throughout the area.\nAccessibility: Participants of all ages and abilities are welcome. The boat is designed to accommodate wheelchairs and assistive walking devices.\n\n \nPhotography Policy\nWe encourage participants to capture and share the beauty of our birding adventures. By signing the Audubon Everglades consent form\, you agree to have your photo taken and shared on our social media pages. \n \nEthical Photography and Wildlife Viewing\nWe promote ethical photography\, birding\, and wildlife viewing. Participants are reminded to: \n\nAvoid feeding or harassing wildlife.\nMaintain a respectful distance to ensure the safety and well-being of animals.\nRefrain from disrupting natural behaviors or altering habitats for the sake of photographs.\n\nFailure to adhere to these principles will result in dismissal from the event and disqualification from participating in future trips. By participating in this event\, you agree to uphold these standards and respect the wildlife we encounter. \n \nCancellation Policy \nIf you register but are unable to attend\, please cancel your ticket to allow others the opportunity to join this adventure.\n\nPlease cancel at least seven days before the trip if you are unable to attend.\nIf the boat does not get filled\, the trip will be canceled.\nWe reserve the right to cancel this trip.\nIn the event of inclement weather\, the trip will be postponed to a later date.\n\n \nDirections\nFrom Palm Beach International Airport: \n\nGet on FL-80 W/US-98/Southern Blvd from James L Turnage Blvd and Australian Ave (5 min\, 2.6 mi).\nFollow US-98 to Hooker Hwy (41 min\, 36.9 mi).\nContinue straight onto Hooker Hwy (8 min\, 2.3 mi).\nArrive at Torry Island. Take the first left by the bait shop.\nThe boat ramp is at the end of the parking lot.\n\n \nDon’t miss this incredible opportunity to explore one of Florida’s most stunning ecosystems!\nRegister now to secure your spot!
URL:https://www.auduboneverglades.org/event/birding-by-air-boat/
LOCATION:Torry Island Campground\, 5000 West Canal Street North\, Belle Glade\, FL\, 33430\, United States
ATTACH;FMTTYPE=image/jpeg:https://www.auduboneverglades.org/wp-content/uploads/2024/12/b1478380de58d7c780f59d64b9b30c28.jpg
END:VEVENT
END:VCALENDAR